BEGIN:VCALENDAR
VERSION:2.0
PRODID:-//The American Poultry Association (APA) - ECPv6.15.20//NONSGML v1.0//EN
CALSCALE:GREGORIAN
METHOD:PUBLISH
X-WR-CALNAME:The American Poultry Association (APA)
X-ORIGINAL-URL:https://www.amerpoultryassn.com
X-WR-CALDESC:Events for The American Poultry Association (APA)
REFRESH-INTERVAL;VALUE=DURATION:PT1H
X-Robots-Tag:noindex
X-PUBLISHED-TTL:PT1H
BEGIN:VTIMEZONE
TZID:UTC
BEGIN:STANDARD
TZOFFSETFROM:+0000
TZOFFSETTO:+0000
TZNAME:UTC
DTSTART:20200101T000000
END:STANDARD
END:VTIMEZONE
BEGIN:VEVENT
DTSTART;VALUE=DATE:20220924
DTEND;VALUE=DATE:20220925
DTSTAMP:20260425T025320
CREATED:20220927T180451Z
LAST-MODIFIED:20230828T143845Z
UID:14855-1663977600-1664063999@www.amerpoultryassn.com
SUMMARY:Luxton Fall Fair
DESCRIPTION:Luxton Fall Fair
URL:https://www.amerpoultryassn.com/event/luxton-fall-fair/
LOCATION:Luxton Fall Fair\, 1040 Marwood AV\, Langford\, BC\, V9C 3C4\, Canada
CATEGORIES:APA Sanctioned Event
ORGANIZER;CN="Metchosin Farmers Institute":MAILTO:lmatechuk@outlook.com
END:VEVENT
BEGIN:VEVENT
DTSTART;TZID=UTC:20220916T100000
DTEND;TZID=UTC:20220918T100000
DTSTAMP:20260425T025320
CREATED:20220824T201943Z
LAST-MODIFIED:20230828T143845Z
UID:14357-1663322400-1663495200@www.amerpoultryassn.com
SUMMARY:7220 Poultry Show (Double Show)
DESCRIPTION:Wyoming’s only APA & ABA Show. We are so excited to be back for our second year! We truly hope that you can come and enjoy our show. This years show will be a double APA/ABA\, with one youth show\, and a 4-H show. We’ll also have a Sale Area\, Club Area\, and a Food Truck!
URL:https://www.amerpoultryassn.com/event/7220-poultry-show-double-show/
LOCATION:Albany County Fairgrounds – Laramie\, WY
CATEGORIES:APA Sanctioned Event,Breed meet,Club Event
ATTACH;FMTTYPE=image/png:https://www.amerpoultryassn.com/wp-content/uploads/2022/08/7220-Poultry-small-image.png
ORGANIZER;CN="7220 Poultry":MAILTO:7220poultry@gmail.com
END:VEVENT
BEGIN:VEVENT
DTSTART;VALUE=DATE:20220910
DTEND;VALUE=DATE:20220911
DTSTAMP:20260425T025320
CREATED:20220824T201919Z
LAST-MODIFIED:20230828T143846Z
UID:14377-1662768000-1662854399@www.amerpoultryassn.com
SUMMARY:IL-MO Poultry Show
DESCRIPTION:The IL-MO Poultry Club was established in 1954. The club hosts an ABA & APA sanctioned show once a year at the Madison County Fairgrounds in Highland\, IL. It is a one day\, double show and held the second weekend in September every year.
URL:https://www.amerpoultryassn.com/event/il-mo-poultry-show/
LOCATION:Madison County Fairgrounds\, 2025 Parkhill Dr\, Highland\, IL\, 62249\, United States
CATEGORIES:APA Sanctioned Event
ATTACH;FMTTYPE=image/jpeg:https://www.amerpoultryassn.com/wp-content/uploads/2022/08/6CF1838F-5F8E-4CB2-9398-A4F10A4A00AB.jpeg
ORGANIZER;CN="IL-MO Poultry Club":MAILTO:ilmopoultryclub@gmail.com
END:VEVENT
BEGIN:VEVENT
DTSTART;VALUE=DATE:20220903
DTEND;VALUE=DATE:20220905
DTSTAMP:20260425T025320
CREATED:20220519T174936Z
LAST-MODIFIED:20230828T143846Z
UID:13358-1662163200-1662335999@www.amerpoultryassn.com
SUMMARY:Chesterfield County Fair Open Poultry Show
DESCRIPTION:Chesterfield County Fair Open Poultry Show\, Co-Hosted by Feathers and Feet 4H Poultry Club \nSeptember 3\, 2022 \n8-10am Check-in \n10-11am Youth Showmanship
URL:https://www.amerpoultryassn.com/event/chesterfield-county-fair-open-poultry-show/
LOCATION:VA
CATEGORIES:APA Sanctioned Event
END:VEVENT
BEGIN:VEVENT
DTSTART;VALUE=DATE:20220903
DTEND;VALUE=DATE:20220904
DTSTAMP:20260425T025320
CREATED:20211124T144144Z
LAST-MODIFIED:20230828T143846Z
UID:10873-1662163200-1662249599@www.amerpoultryassn.com
SUMMARY:Northwoods Poultry Fanciers Club 2nd annual show
DESCRIPTION:Double open show and single Junior show. Judges are Jeff Halbach and Brian Gates\, will add more judges as entries come in. Location is Wisconsin Valley Fairgrounds in Wausau\, WI.
URL:https://www.amerpoultryassn.com/event/northwoods-poultry-fanciers-club-2nd-annual-show/
LOCATION:Wisconsin Valley Fairgrounds\, 1201 Stewart Ave\, Wausau\, WI\, 54401\, United States
ORGANIZER;CN="Northwoods Poultry Fanciers Club":MAILTO:northwoodspoultryfanciersclub@gmail.com
END:VEVENT
BEGIN:VEVENT
DTSTART;VALUE=DATE:20220813
DTEND;VALUE=DATE:20220815
DTSTAMP:20260425T025320
CREATED:20220729T003817Z
LAST-MODIFIED:20230828T143846Z
UID:13679-1660348800-1660521599@www.amerpoultryassn.com
SUMMARY:Iowa State Fair
DESCRIPTION:On behalf of the Iowa State Fair\, I would like to personally invite you to show your poultry at the 2022 Iowa State Fair. We are beyond excited that we are able to move forward with the poultry show this year and are also happy to announce a few upgrades to the poultry building. We were able to enhance electricity within our poultry building and additionally were able to upgrade water access so that our exhibitors have easier access to the necessities needed while attending the fair. \nIn order to enter your poultry in the Iowa State Fair visit www.iowastatefair.org and click the Participate tab.  Next\, select Enter Contest and Competitions and from here you will be able to go to Open Class entry. Choose Poultry from the drop down menu in the middle of the page.  The deadline for Open Class Poultry is July 14th.
URL:https://www.amerpoultryassn.com/event/iowa-state-fair/
LOCATION:Iowa State Fairgrounds\, 3000 East Grand Ave\, Des Moines\, IA\, 50317\, United States
CATEGORIES:APA Sanctioned Event
ATTACH;FMTTYPE=image/png:https://www.amerpoultryassn.com/wp-content/uploads/2022/06/ISF2022_Logo_Horizontal_WithDates.png
ORGANIZER;CN="Iowa State Fair":MAILTO:entryintern4@iowastatefair.org
END:VEVENT
BEGIN:VEVENT
DTSTART;TZID=UTC:20220812T090000
DTEND;TZID=UTC:20220814T170000
DTSTAMP:20260425T025320
CREATED:20220729T003745Z
LAST-MODIFIED:20230828T143847Z
UID:13804-1660294800-1660496400@www.amerpoultryassn.com
SUMMARY:Indiana State Fair Poultry Show
DESCRIPTION:Poultry show hosted during the 2022 Indiana State Fair
URL:https://www.amerpoultryassn.com/event/indiana-state-fair-poultry-show/
LOCATION:Indiana State Fairgrounds and Event Center\, 1202 East 38th Street\, Indianapolis\, IN\, 46205\, United States
CATEGORIES:APA Sanctioned Event
ORGANIZER;CN="Indiana State Fair":MAILTO:entry@indianastatefair.com
END:VEVENT
BEGIN:VEVENT
DTSTART;VALUE=DATE:20220625
DTEND;VALUE=DATE:20220627
DTSTAMP:20260425T025320
CREATED:20220215T165058Z
LAST-MODIFIED:20230828T143847Z
UID:12245-1656115200-1656287999@www.amerpoultryassn.com
SUMMARY:1st Annual Oklahoma Poultry Show
DESCRIPTION:We will have all poultry on the first day of the show 06/25/22 and on the second day we will have a 2nd show just for Ameraucana’s on 06/26/22.
URL:https://www.amerpoultryassn.com/event/1st-annual-oklahoma-poultry-show/
LOCATION:hardy murphy coliseum\, 600 lake Murray drive\, Ardmore\, OK\, 73401\, United States
CATEGORIES:APA Sanctioned Event,Breed meet
ORGANIZER;CN="Oklahoma Ameraucana's":MAILTO:Gatlin.king@outlook.com
END:VEVENT
BEGIN:VEVENT
DTSTART;VALUE=DATE:20220625
DTEND;VALUE=DATE:20220626
DTSTAMP:20260425T025320
CREATED:20220519T174847Z
LAST-MODIFIED:20230828T143847Z
UID:13388-1656115200-1656201599@www.amerpoultryassn.com
SUMMARY:Marion County Fair Poultry Show
DESCRIPTION:Welcome to the Marion County Fair Poultry Show. Small town Indiana Poultry Show meets the excitement and yummy food of the Midway! \nPlease review the show catalog\, submission forms are located at the end of the show catalog. The show catalog is located here: https://www.facebook.com/groups/492417095339399 \nAll entries must be sent to Dylan Lape by June 13th. \nPlease email If you have any questions: MarionCountyFairPoultry@gmail.com \nWe can’t wait to see you there!
URL:https://www.amerpoultryassn.com/event/marion-county-fair-poultry-show/
LOCATION:Marion County Fairgrounds\, 7300 E Troy Ave\, Indianapolis\, IN\, 46239\, United States
CATEGORIES:APA Sanctioned Event
ATTACH;FMTTYPE=image/jpeg:https://www.amerpoultryassn.com/wp-content/uploads/2022/05/FB_IMG_1652755811968.jpg
ORGANIZER;CN="Robyn 'Fynch' Williams":MAILTO:marioncountyfairpoultry@gmail.com
END:VEVENT
BEGIN:VEVENT
DTSTART;TZID=UTC:20220602T080000
DTEND;TZID=UTC:20220602T170000
DTSTAMP:20260425T025320
CREATED:20220729T003840Z
LAST-MODIFIED:20230828T143847Z
UID:13557-1654156800-1654189200@www.amerpoultryassn.com
SUMMARY:bolder city poultry show
DESCRIPTION:this is a series throw out Arizona for poultry the first is in series . $100 per bird
URL:https://www.amerpoultryassn.com/event/bolder-city-poultry-show/
LOCATION:Wilson Oklahoma FFA barn\, 1860 Hewitt rd\, Wilson\, OK\, 73463\, United States
CATEGORIES:District Meet
END:VEVENT
BEGIN:VEVENT
DTSTART;VALUE=DATE:20220528
DTEND;VALUE=DATE:20220530
DTSTAMP:20260425T025320
CREATED:20211026T181019Z
LAST-MODIFIED:20230828T143847Z
UID:10417-1653696000-1653868799@www.amerpoultryassn.com
SUMMARY:Saulk Trail Poultry Show 2022
DESCRIPTION:Two separate one-day shows in Hillsdale\, MI May 28th and 29th 2022 \nHosting the Eastern Silkie National on the Saturday show! \nSaturday judges are Paul Monteith and Troy Laroche\, Sunday judges Keith Lutz and Terry Britt
URL:https://www.amerpoultryassn.com/event/saulk-trail-poultry-show-2022/
LOCATION:Hillsdale County Fairgrounds\, Hillsdale MI\, 115 S. Broad St.\, Hillsdale\, MI\, 49242\, United States
CATEGORIES:APA Sanctioned Event
ATTACH;FMTTYPE=image/jpeg:https://www.amerpoultryassn.com/wp-content/uploads/2021/10/inbound8707710771239618438.jpg
ORGANIZER;CN="Saulk Trail Poultry Club":MAILTO:saulktrailpoultry@gmail.com
END:VEVENT
BEGIN:VEVENT
DTSTART;VALUE=DATE:20220528
DTEND;VALUE=DATE:20220529
DTSTAMP:20260425T025320
CREATED:20220111T213358Z
LAST-MODIFIED:20230828T143848Z
UID:11594-1653696000-1653782399@www.amerpoultryassn.com
SUMMARY:Salt Spring Island Spring Lawn Show (BC Provincial Show)
DESCRIPTION:The Salt Spring Island Poultry Club is excited to be hosting their SPRING APA  Lawn show on Saturday April 30th\, 2022.  This show will also be recognized as the BC PROVINCIAL APA event. \n\n\nOur Show will be hosted OUTSIDE at the SSI Farmers Institute\, so please come prepared for a variety of weather conditions.  This is a ONE DAY event and we do not have additional storage for birds overnight. \n\n\nOur Show judge will be Ramona Tremblay and there will be prizes awarded for winning birds. \n\n\nSalt Spring Island hosts a variety of cafes\, restaurants and bakeries as well as various wineries and great hikes.  If you require accommodations\, please search VRBO or AirBnB for rentals.
URL:https://www.amerpoultryassn.com/event/salt-spring-island-spring-lawn-show-bc-provincial-show/
LOCATION:SSI Farmers Institute\, 351 rainbow road\, Salt Spring ISland\, British Columbia\, v8k 2m4\, Canada
CATEGORIES:APA Sanctioned Event
ATTACH;FMTTYPE=image/png:https://www.amerpoultryassn.com/wp-content/uploads/2022/01/Screen-Shot-2020-09-07-at-8.24.08-AM.png
ORGANIZER;CN="Salt Spring Island Poultry Club":MAILTO:admin@saltspringpoultry.com
END:VEVENT
BEGIN:VEVENT
DTSTART;VALUE=DATE:20220515
DTEND;VALUE=DATE:20220516
DTSTAMP:20260425T025320
CREATED:20220103T201728Z
LAST-MODIFIED:20230828T143848Z
UID:11424-1652572800-1652659199@www.amerpoultryassn.com
SUMMARY:Little Rhody Poultry Fanciers
DESCRIPTION:Annual Spring Show
URL:https://www.amerpoultryassn.com/event/little-rhody-poultry-fanciers-2/
LOCATION:VA
ATTACH;FMTTYPE=image/jpeg:https://www.amerpoultryassn.com/wp-content/uploads/2021/12/6E41E137-8648-4568-B8AC-410F05F052C0.jpeg
END:VEVENT
BEGIN:VEVENT
DTSTART;VALUE=DATE:20220514
DTEND;VALUE=DATE:20220516
DTSTAMP:20260425T025320
CREATED:20220401T195146Z
LAST-MODIFIED:20230828T143848Z
UID:12725-1652486400-1652659199@www.amerpoultryassn.com
SUMMARY:Moon City Poultry Show
DESCRIPTION:For information\, catalog and entry\, please send an email to mooncitypoultryclub@yahoo.com
URL:https://www.amerpoultryassn.com/event/moon-city-poultry-show/
LOCATION:VA
ATTACH;FMTTYPE=image/jpeg:https://www.amerpoultryassn.com/wp-content/uploads/2022/03/IMG_2893.jpg
END:VEVENT
BEGIN:VEVENT
DTSTART;TZID=UTC:20220423T060000
DTEND;TZID=UTC:20220424T110000
DTSTAMP:20260425T025320
CREATED:20211121T163616Z
LAST-MODIFIED:20230828T143848Z
UID:10839-1650693600-1650798000@www.amerpoultryassn.com
SUMMARY:Dayton Fancy Feather Club Spring Show
DESCRIPTION:Double card show last full weekend in April\, located in Greenville\, OH. Entry deadline: April 8\, 2022 \nShow Catalog
URL:https://www.amerpoultryassn.com/event/dayton-fancy-feather-club-spring-show/
LOCATION:Darke County Fairgrounds\, 800 Sweitzer St\, Greenville\, OH\, 45331
CATEGORIES:APA Sanctioned Event
ORGANIZER;CN="Dayton Fancy Feather Club":MAILTO:amanda.heitzman@hotmail.com
END:VEVENT
BEGIN:VEVENT
DTSTART;VALUE=DATE:20220415
DTEND;VALUE=DATE:20220417
DTSTAMP:20260425T025320
CREATED:20220215T164758Z
LAST-MODIFIED:20230828T143817Z
UID:12250-1649980800-1650153599@www.amerpoultryassn.com
SUMMARY:1st annual Oklahoma poultry and Ameraucana show
DESCRIPTION:This will be an annual show for all types of poultry the first day and second day will be Ameraucana’s only.
URL:https://www.amerpoultryassn.com/event/1st-annual-oklahoma-poultry-and-ameraucana-show/
LOCATION:Wilson Oklahoma FFA barn\, 1860 Hewitt rd\, Wilson\, OK\, 73463\, United States
CATEGORIES:APA Sanctioned Event,Breed meet,Club Event
ATTACH;FMTTYPE=image/jpeg:https://www.amerpoultryassn.com/wp-content/uploads/2022/02/CF6CA8D6-B6CF-480F-95C2-04685D490FF6.jpeg
ORGANIZER;CN="Oklahoma Ameraucana's":MAILTO:Gatlin.king@outlook.com
END:VEVENT
BEGIN:VEVENT
DTSTART;VALUE=DATE:20220409
DTEND;VALUE=DATE:20220410
DTSTAMP:20260425T025320
CREATED:20211102T212556Z
LAST-MODIFIED:20230828T143818Z
UID:10545-1649462400-1649548799@www.amerpoultryassn.com
SUMMARY:Colorado Poultry Association Spring Show
DESCRIPTION:South East Weld County Fairgrounds \nKeensburg\, Colorado
URL:https://www.amerpoultryassn.com/event/colorado-poultry-association-spring-show/
LOCATION:Hamilton County Fairgrounds\, 1200 Bluff St\, Webster City\, IA\, 50595\, United States
CATEGORIES:APA Sanctioned Event
ATTACH;FMTTYPE=image/jpeg:https://www.amerpoultryassn.com/wp-content/uploads/2021/11/CPA-Logo.jpg
ORGANIZER;CN="Derek Brady":MAILTO:coloradopoultryassocaion@gmail.com
END:VEVENT
BEGIN:VEVENT
DTSTART;VALUE=DATE:20220319
DTEND;VALUE=DATE:20220320
DTSTAMP:20260425T025320
CREATED:20211124T122150Z
LAST-MODIFIED:20230828T143818Z
UID:10872-1647648000-1647734399@www.amerpoultryassn.com
SUMMARY:Cornish Seminar
DESCRIPTION:Judges look at over 60 pens of Large Cornish and Bantam Cornish . Talk about breeding programs and hatching and raising and showing Cornish. Free shirt and Packet of great tips and Door Prizes.  A lot of interaction and learning . Everyone who has attended from all over the US has come back every year. This is our 3rd one.
URL:https://www.amerpoultryassn.com/event/cornish-seminar/
LOCATION:VA
END:VEVENT
BEGIN:VEVENT
DTSTART;TZID=UTC:20220314T000000
DTEND;TZID=UTC:20220314T000000
DTSTAMP:20260425T025320
CREATED:20220314T004742Z
LAST-MODIFIED:20230828T143818Z
UID:12559-1647216000-1647216000@www.amerpoultryassn.com
SUMMARY:South Dakota State Fair
DESCRIPTION:
URL:https://www.amerpoultryassn.com/event/south-dakota-state-fair/
LOCATION:VA
END:VEVENT
BEGIN:VEVENT
DTSTART;TZID=UTC:20220310T120000
DTEND;TZID=UTC:20220312T140000
DTSTAMP:20260425T025320
CREATED:20220115T205727Z
LAST-MODIFIED:20230828T143819Z
UID:11630-1646913600-1647093600@www.amerpoultryassn.com
SUMMARY:Utah Fancy Poultry Association - Spring Double Show
DESCRIPTION:UFPA Spring Show\nMarch 10-12\, 2022\nGolden Spike Arena – Exhibit Hall\nOgden\, UT  84404 \nJudges: \nAnthony Ashley & Gary Rossman
URL:https://www.amerpoultryassn.com/event/utah-fancy-poultry-association-spring-double-show/
LOCATION:Hamilton County Fairgrounds\, 1200 Bluff St\, Webster City\, IA\, 50595\, United States
CATEGORIES:APA Sanctioned Event
ATTACH;FMTTYPE=image/png:https://www.amerpoultryassn.com/wp-content/uploads/2022/01/UFPA.png
ORGANIZER;CN="Utah Fancy Poultry Association":MAILTO:utahfancypoultry@gmail.com
END:VEVENT
BEGIN:VEVENT
DTSTART;TZID=UTC:20220219T080000
DTEND;TZID=UTC:20220219T170000
DTSTAMP:20260425T025320
CREATED:20210929T042849Z
LAST-MODIFIED:20230828T143819Z
UID:8688-1645257600-1645290000@www.amerpoultryassn.com
SUMMARY:North Central Alberta Poultry Assoc. Poultry\, Pigeon & Waterfowl Show
DESCRIPTION:
URL:https://www.amerpoultryassn.com/event/north-central-alberta-poultry-assoc-poultry-pigeon-waterfowl-show/
LOCATION:Wetaskiwin Drill Hall\, 4519 50 Ave\, Wetaskiwin\, Alberta\, T9A 2S1\, Canada
END:VEVENT
BEGIN:VEVENT
DTSTART;VALUE=DATE:20220219
DTEND;VALUE=DATE:20220221
DTSTAMP:20260425T025320
CREATED:20220124T011127Z
LAST-MODIFIED:20230828T143819Z
UID:11902-1645228800-1645401599@www.amerpoultryassn.com
SUMMARY:CANCELLED: Chattahoochee Valley Poultry Association's 18th Annual Winter Show & Swap Meet (APA SEMI ANNUAL)
DESCRIPTION:Update 2022-02-16: The show has been cancelled.\nThe Georgia Department of Agriculture announced today (2022-02-16) that all poultry shows\, swaps\, etc. in the state of Georgia are immediately cancelled due to outbreaks of Avian Influenza in some locations. The APA General Meeting scheduled for Saturday\, February 19th has been postponed with a new date and time to be announced later. \nHOSTING THE APA 2022 SEMI-ANNUAL \nOPEN SHOW JUDGES:\nJonathan Patterson- Indiana\nPaul Monteith – Canada\nAnthony Ashley – South Carolina\nJim Sallee – California\nPaul Gilroy-Maryland \nJUNIOR SHOW & SHOWMANSHIP JUDGES:\nTom Carey – Florida (Jr. Show Judge)\nDoug Akers – Alabama (Showmanship Judge)YEPA Sanctioned \nMail in entries must be postmarked by Friday\, February 11\, 2022\nMail entries to Show Secretary: Tonya Massengale\, 921 Lawshe Road\, Senoia\, GA 30276\nPhone deadline is Friday\, February 11\, 2022 at 10:00 p.m. 770-851-2103 (Tonya Massengale)
URL:https://www.amerpoultryassn.com/event/chattahoochee-valley-poultry-associations-18th-annual-winter-show-swap-meet-apa-semi-annual/
LOCATION:Coweta County Fairgrounds\, 275 Pine Road\, Newnan\, GA\, 30263\, United States
ATTACH;FMTTYPE=image/jpeg:https://www.amerpoultryassn.com/wp-content/uploads/2022/01/APA-COLOR-SECTION-2021-WEB-dragged.jpg
END:VEVENT
BEGIN:VEVENT
DTSTART;TZID=UTC:20220115T080000
DTEND;TZID=UTC:20220115T170000
DTSTAMP:20260425T025320
CREATED:20220111T213428Z
LAST-MODIFIED:20230828T143819Z
UID:11585-1642233600-1642266000@www.amerpoultryassn.com
SUMMARY:🍑Just Peachy Classic 🍑
DESCRIPTION:🍑Just Peachy Classic 🍑 \nDouble show\nGa National Fairgrounds\nPerry\, GA 1/15/22
URL:https://www.amerpoultryassn.com/event/%f0%9f%8d%91just-peachy-classic-%f0%9f%8d%91/
LOCATION:Georgia National Fairgrounds\, 401 Golden Isles PKWY\, Perry\, GA\, 31069\, United States
ATTACH;FMTTYPE=image/jpeg:https://www.amerpoultryassn.com/wp-content/uploads/2022/01/FB_IMG_1641915440094.jpg
ORGANIZER;CN="Peachstate Poultry Association":MAILTO:peachstatepoultryassociation@gmail.com
END:VEVENT
BEGIN:VEVENT
DTSTART;VALUE=DATE:20211204
DTEND;VALUE=DATE:20211205
DTSTAMP:20260425T025320
CREATED:20211027T165423Z
LAST-MODIFIED:20230828T143819Z
UID:10455-1638576000-1638662399@www.amerpoultryassn.com
SUMMARY:Red Stick Poultry Club Show
DESCRIPTION:Double show. Bantam\, Large fowl\, Turkeys\, Ducks\, Geese\, Guinea fowl all welcome! Judges are Grace Madsen Ellis\, Bart Pals\, Keith Wagoner\, Steve Beaty. Junior judge Dwight Madsen. YEPA showmanship judge Peyton Igo.
URL:https://www.amerpoultryassn.com/event/red-stick-poultry-club-show/
LOCATION:John M Parker Agricultural Coliseum . LSU\, LSU Avenue\, Baton Rouge\, LA\, 70898\, United States
CATEGORIES:APA Sanctioned Event
ATTACH;FMTTYPE=image/jpeg:https://www.amerpoultryassn.com/wp-content/uploads/2021/10/E96B4B1C-3018-4A61-8C4D-F2A71E274B31.jpeg
ORGANIZER;CN="Redstick Poultry Club":MAILTO:Redstickpoultry@outlook.com
END:VEVENT
BEGIN:VEVENT
DTSTART;TZID=UTC:20211120T080000
DTEND;TZID=UTC:20211121T170000
DTSTAMP:20260425T025320
CREATED:20211103T011616Z
LAST-MODIFIED:20230828T143820Z
UID:10552-1637395200-1637514000@www.amerpoultryassn.com
SUMMARY:Fraser Valley Poultry Fanciers Winter Show
DESCRIPTION:FVPFA is hosting their annual winter show again this year in Abbotsford\, B.C.\, Canada. Limited entries this year due to Covid-19 protocols\, but looking forward to a great time with poultry enthusiasts from Western Canada.
URL:https://www.amerpoultryassn.com/event/fraser-valley-poultry-fanciers-winter-show/
LOCATION:Abbotsford Cadet Building\, 32470 Haida Drive\, Abbotsford\, British Columbia\, Canada
CATEGORIES:APA Sanctioned Event
ATTACH;FMTTYPE=image/jpeg:https://www.amerpoultryassn.com/wp-content/uploads/2021/11/6621645_orig.jpg
END:VEVENT
BEGIN:VEVENT
DTSTART;TZID=UTC:20211113T080000
DTEND;TZID=UTC:20211113T170000
DTSTAMP:20260425T025320
CREATED:20210930T001451Z
LAST-MODIFIED:20230828T143820Z
UID:8711-1636790400-1636822800@www.amerpoultryassn.com
SUMMARY:Canadian Heritage Breeds Fall Poultry Show
DESCRIPTION:APA and ABA Sanctioned. Junior competition\, Egg show and Pigeon Show with ribbons and prize money.
URL:https://www.amerpoultryassn.com/event/canadian-heritage-breeds-fall-poultry-show/
LOCATION:Test Location\, 6843 199a Street\, Langley\, BC\, V2Y3B7\, Canada
ATTACH;FMTTYPE=image/png:https://www.amerpoultryassn.com/wp-content/uploads/2021/09/Screen-Shot-2021-09-29-at-5.14.12-PM.png
END:VEVENT
BEGIN:VEVENT
DTSTART;TZID=UTC:20211106T080000
DTEND;TZID=UTC:20211107T170000
DTSTAMP:20260425T025320
CREATED:20211016T230329Z
LAST-MODIFIED:20230828T143820Z
UID:9808-1636185600-1636304400@www.amerpoultryassn.com
SUMMARY:APA Annual Meet
DESCRIPTION:
URL:https://www.amerpoultryassn.com/event/apa-annual-meet/
LOCATION:Pauline Whitaker Animal Science Center\, Fayetteville\, AR\, United States
CATEGORIES:APA Sanctioned Event
ATTACH;FMTTYPE=image/jpeg:https://www.amerpoultryassn.com/wp-content/uploads/2021/10/E1C4FEBB-B59A-4DB1-8D2B-D6190D2DC4A5-683x1024-3.jpg
END:VEVENT
BEGIN:VEVENT
DTSTART;TZID=UTC:20211023T080000
DTEND;TZID=UTC:20211024T170000
DTSTAMP:20260425T025320
CREATED:20211017T212207Z
LAST-MODIFIED:20230828T143820Z
UID:9902-1634976000-1635094800@www.amerpoultryassn.com
SUMMARY:Canadian National Meet
DESCRIPTION:The 45th Annual Nova Scotia Classic is being held in Truro\, Nova Scotia. Sanctioned by the APA.
URL:https://www.amerpoultryassn.com/event/canadian-national-meet/
LOCATION:Nova Scotia Provincial Exhibition Commission Complex\, Truro\, Nova Scotia\, Canada
CATEGORIES:APA Annual and Semi Annual,APA Sanctioned Event
ATTACH;FMTTYPE=image/jpeg:https://www.amerpoultryassn.com/wp-content/uploads/2021/10/Canadian-National-Ad.jpeg
END:VEVENT
BEGIN:VEVENT
DTSTART;VALUE=DATE:20211023
DTEND;VALUE=DATE:20211024
DTSTAMP:20260425T025320
CREATED:20211021T181757Z
LAST-MODIFIED:20230828T143821Z
UID:10081-1634947200-1635033599@www.amerpoultryassn.com
SUMMARY:2021 Fall Featherfest
DESCRIPTION:The Vernon Pigeon and Poultry Club’s show\, FALL FEATHERFEST\, will be held on October 23\, 2021\, in the Horticulture Building on the IPE Fairgrounds in Armstrong B.C. In lieu of a banquet\, there will be pizza for $5 (includes beverages) after the show. For full details visit the website and show catalogue
URL:https://www.amerpoultryassn.com/event/2021-fall-featherfest/
LOCATION:IPE Grounds\, 3371 Pleasant Valley Rd\, Armstrong\, BC\, V0E 1B0\, Canada
CATEGORIES:APA Sanctioned Event,Club Event
ATTACH;FMTTYPE=image/jpeg:https://www.amerpoultryassn.com/wp-content/uploads/2021/10/FF-Poster-2021-744x1024-1.jpg
ORGANIZER;CN="Vernon Pigeon and Poulry club":MAILTO:ic_drafting@telus.net
END:VEVENT
END:VCALENDAR