BEGIN:VCALENDAR
VERSION:2.0
PRODID:-//The American Poultry Association (APA) - ECPv6.15.20//NONSGML v1.0//EN
CALSCALE:GREGORIAN
METHOD:PUBLISH
X-WR-CALNAME:The American Poultry Association (APA)
X-ORIGINAL-URL:https://www.amerpoultryassn.com
X-WR-CALDESC:Events for The American Poultry Association (APA)
REFRESH-INTERVAL;VALUE=DURATION:PT1H
X-Robots-Tag:noindex
X-PUBLISHED-TTL:PT1H
BEGIN:VTIMEZONE
TZID:UTC
BEGIN:STANDARD
TZOFFSETFROM:+0000
TZOFFSETTO:+0000
TZNAME:UTC
DTSTART:20220101T000000
END:STANDARD
END:VTIMEZONE
BEGIN:VEVENT
DTSTART;TZID=UTC:20240322T150000
DTEND;TZID=UTC:20240323T190000
DTSTAMP:20260424T231810
CREATED:20240306T174116Z
LAST-MODIFIED:20240306T174158Z
UID:28411-1711119600-1711220400@www.amerpoultryassn.com
SUMMARY:2024 Utah Fancy Poultry Association Spring Double Show
DESCRIPTION:ABA/APA Double Show
URL:https://www.amerpoultryassn.com/event/2024-utah-fancy-poultry-association-spring-double-show/
LOCATION:Deseret Peak Complex – Grantsville\, UT\, 2930 UT-112\, Grantsville\, UT\, 84029\, United States
ATTACH;FMTTYPE=image/jpeg:https://www.amerpoultryassn.com/wp-content/uploads/2024/03/UFPA.jpeg
ORGANIZER;CN="Utah Fancy Poultry Association":MAILTO:utahfancypoultry@gmail.com
END:VEVENT
BEGIN:VEVENT
DTSTART;VALUE=DATE:20240316
DTEND;VALUE=DATE:20240317
DTSTAMP:20260424T231810
CREATED:20240201T220758Z
LAST-MODIFIED:20240201T220758Z
UID:26585-1710547200-1710633599@www.amerpoultryassn.com
SUMMARY:Cascade Spring Poultry Show
DESCRIPTION:APA/ABA sanctioned 1-day double show\, located at the Evergreen State Fairgrounds in Monroe\, WA\, March 16\, 2024.
URL:https://www.amerpoultryassn.com/event/cascade-spring-poultry-show/
LOCATION:Evergreen State Fairgrounds\, Monroe\, WA\, Monroe\, WA\, United States
CATEGORIES:APA Sanctioned Event,Breed meet
END:VEVENT
BEGIN:VEVENT
DTSTART;VALUE=DATE:20240316
DTEND;VALUE=DATE:20240317
DTSTAMP:20260424T231810
CREATED:20231118T030737Z
LAST-MODIFIED:20231120T003931Z
UID:24846-1710547200-1710633599@www.amerpoultryassn.com
SUMMARY:Virginia Spring Classic
DESCRIPTION:Open double card show. Jr show. APA/ABA sanctioned.
URL:https://www.amerpoultryassn.com/event/virginia-spring-classic/
LOCATION:Virginia State Fair at Meadow Event Park\, 13191 Dawn Blvd\, Doswell\, Virginia
CATEGORIES:APA Sanctioned Event
ATTACH;FMTTYPE=image/jpeg:https://www.amerpoultryassn.com/wp-content/uploads/2023/11/FB_IMG_1700100249803.jpg
ORGANIZER;CN="Berry Fresh Farm":MAILTO:koolkatpoker@yahoo.com
END:VEVENT
BEGIN:VEVENT
DTSTART;VALUE=DATE:20240309
DTEND;VALUE=DATE:20240310
DTSTAMP:20260424T231810
CREATED:20240229T165222Z
LAST-MODIFIED:20240229T165236Z
UID:28169-1709942400-1710028799@www.amerpoultryassn.com
SUMMARY:Carpet City Spring Fling
DESCRIPTION:Double show! Judges: Phil Bartz\, Tim Bowles\, David Atkins\, and Gary Overton!  Come help us make this show a success!
URL:https://www.amerpoultryassn.com/event/carpet-city-spring-fling/
LOCATION:MO
ATTACH;FMTTYPE=image/jpeg:https://www.amerpoultryassn.com/wp-content/uploads/2024/02/IMG_2124.jpeg
END:VEVENT
BEGIN:VEVENT
DTSTART;VALUE=DATE:20240302
DTEND;VALUE=DATE:20240303
DTSTAMP:20260424T231810
CREATED:20240111T152352Z
LAST-MODIFIED:20240111T152352Z
UID:26204-1709337600-1709423999@www.amerpoultryassn.com
SUMMARY:Spring in Dixie- Knoxville TN
DESCRIPTION:March 2\, 2024 \nSpring show in Knoxville\, TN on the Tennessee Valley Fair Grounds. Sponsored by the Tennessee Valley Poultry Club.\nEntry deadline 2/19
URL:https://www.amerpoultryassn.com/event/spring-in-dixie-knoxville-tn/
LOCATION:MO
END:VEVENT
BEGIN:VEVENT
DTSTART;TZID=UTC:20240210T080000
DTEND;TZID=UTC:20240210T170000
DTSTAMP:20260424T231810
CREATED:20230726T155804Z
LAST-MODIFIED:20230828T143937Z
UID:21258-1707552000-1707584400@www.amerpoultryassn.com
SUMMARY:Fancy Feathers Poultry and Rabbit show
DESCRIPTION:APA/ABA Poultry Show with Junior/Open/Backyard categories and Showmanship for youth. There is also a Rabbit Show (not ARBA sanctioned). \nWe have vendors\, concessions\, games and  art contest. We have multiple buckles and many ribbons/trophies to be won!
URL:https://www.amerpoultryassn.com/event/fancy-feathers-poultry-and-rabbit-show-2/
LOCATION:Dripping Springs Ranch Park Events Center\, 1042 Event Center Drive\, Dripping Springs\, TX\, 78620\, United States
CATEGORIES:APA Sanctioned Event
ATTACH;FMTTYPE=image/jpeg:https://www.amerpoultryassn.com/wp-content/uploads/2023/07/chkn-rabbit-image.jpg
ORGANIZER;CN="Kyle 4-H":MAILTO:relief_vet@yahoo.com
END:VEVENT
BEGIN:VEVENT
DTSTART;VALUE=DATE:20240209
DTEND;VALUE=DATE:20240213
DTSTAMP:20260424T231810
CREATED:20240111T152327Z
LAST-MODIFIED:20240111T152327Z
UID:26180-1707436800-1707782399@www.amerpoultryassn.com
SUMMARY:Expo Sahuayo 2024
DESCRIPTION:Is a poultry show with pigeons and poultry device
URL:https://www.amerpoultryassn.com/event/expo-sahuayo-2024/
LOCATION:mexico\, C. José María Morelos\, Camino Real\, 59034 Sahuayo de Morelos\, Mich.\, Sahuayo\, Michoacan\, 59034\, Mexico
CATEGORIES:Club Event
ATTACH;FMTTYPE=image/jpeg:https://www.amerpoultryassn.com/wp-content/uploads/2024/01/e0a790b1-4b80-4be5-92f5-e24fdeadf48e.jpeg
ORGANIZER;CN="Poultry Club Mexico":MAILTO:Jorgeeng.99@gmail.com
END:VEVENT
BEGIN:VEVENT
DTSTART;TZID=UTC:20240120T080000
DTEND;TZID=UTC:20240120T170000
DTSTAMP:20260424T231810
CREATED:20240111T152339Z
LAST-MODIFIED:20240111T152339Z
UID:26186-1705737600-1705770000@www.amerpoultryassn.com
SUMMARY:Peachstate Poultry Association's "Just Peachy Classic" Show
DESCRIPTION:Peachstate Poultry Association invites you to join us in Perry\, GA for our annual APA/ABA poultry show. It is always a double Open\, single Junior show with YEPA Showmanship. We also have an item raffle table and bird silent auction. There is also a Serama Table Top show held at the same time\, in the same building.\nFor more information or to request a catalog\, contact Hannah LeBlanc at 706-401-9800 or email peachstatepoultryassociation@gmail.com \nVisit us on Facebook at https://www.facebook.com/peachstatepoultryassociation
URL:https://www.amerpoultryassn.com/event/peachstate-poultry-associations-just-peachy-classic-show/
LOCATION:Georgia National Fairgrounds\, 401 Golden Isles PKWY\, Perry\, GA\, 31069\, United States
CATEGORIES:APA Sanctioned Event
ATTACH;FMTTYPE=image/jpeg:https://www.amerpoultryassn.com/wp-content/uploads/2024/01/PPA-Catalog-2024-EDIT-pg1.jpg
ORGANIZER;CN="Peachstate Poultry Association":MAILTO:peachstatepoultryassociation@gmail.com
END:VEVENT
BEGIN:VEVENT
DTSTART;VALUE=DATE:20240119
DTEND;VALUE=DATE:20240121
DTSTAMP:20260424T231810
CREATED:20230921T155949Z
LAST-MODIFIED:20230925T171157Z
UID:23502-1705622400-1705795199@www.amerpoultryassn.com
SUMMARY:Peachstate Poultry Association’s “Just Peachy Classic”
DESCRIPTION:Poultry show and swap hosted at the Georgia National Fair Grounds. Single stacked cages\, spacious isles\, large junior show with lots of kids events. Table top serama show hosted by the Southeastern Serama Club.
URL:https://www.amerpoultryassn.com/event/peachstate-poultry-associations-just-peachy-classic/
LOCATION:Georgia National Fairgrounds\, 401 Golden Isles PKWY\, Perry\, GA\, 31069\, United States
CATEGORIES:APA Sanctioned Event
ATTACH;FMTTYPE=image/jpeg:https://www.amerpoultryassn.com/wp-content/uploads/2023/09/F7666C95-7825-40B8-A4BF-9B3F39D52FB8.jpeg
ORGANIZER;CN="Peachstate Poultry Association":MAILTO:peachstatepoultryassociation@gmail.com
END:VEVENT
BEGIN:VEVENT
DTSTART;VALUE=DATE:20240113
DTEND;VALUE=DATE:20240114
DTSTAMP:20260424T231810
CREATED:20240111T152308Z
LAST-MODIFIED:20240111T152308Z
UID:25934-1705104000-1705190399@www.amerpoultryassn.com
SUMMARY:The Safford Show
DESCRIPTION:The Safford Poultry Show
URL:https://www.amerpoultryassn.com/event/the-safford-show/
LOCATION:Graham County Fairgrounds\, 527 E Armory Rd\, Safford\, AZ\, 85546\, United States
CATEGORIES:Club Event
ORGANIZER;CN="Gila Valley Poultry":MAILTO:Hawkinstravis89@yahoo.com
END:VEVENT
BEGIN:VEVENT
DTSTART;VALUE=DATE:20240106
DTEND;VALUE=DATE:20240107
DTSTAMP:20260424T231810
CREATED:20231120T225101Z
LAST-MODIFIED:20231121T170636Z
UID:24879-1704499200-1704585599@www.amerpoultryassn.com
SUMMARY:Bluebonnet Classic Poultry Show
DESCRIPTION:Bluebonnet Classic Poultry Show\nProudly hosted by the Brazos Valley Poultry Club\nJanuary 6\, 2024 | Navasota\, Texas \nThe Bluebonnet Classic is an APA and ABA sanctioned poultry show with open\, junior\, and “backyard” divisions. We have grown into the largest poultry show in the state of Texas and strive to provide an exceptional experience to new and experienced exhibitors alike. In addition to the poultry show\, we also offer an egg show\, showmanship competition\, silent auction\, and multiple family-friendly activities during the day of the show. \n2024 Judges: Jacob Bates\, Conor Keegan\, Emmitt Wild \nPlease visit our webiste (www.bluebonnetclassic.com) for additional information and to download the show catalog and entry forms. Entries must be postmarked by December 22\, 2023. \nDue to in-state regulations\, our show is only open to Texas exhibitors.
URL:https://www.amerpoultryassn.com/event/bluebonnet-classic-poultry-show/
LOCATION:Grimes County Expo Center & Fairgrounds – Navasota\, TX\, 5220 FM 3455\, Navasota\, TX\, 77868\, United States
CATEGORIES:APA Sanctioned Event
ATTACH;FMTTYPE=image/png:https://www.amerpoultryassn.com/wp-content/uploads/2023/11/BVPC-2024-APA-Yearbook-Ad.png
ORGANIZER;CN="Brazos Valley Poultry Club":MAILTO:bvpoultryclub@gmail.com
END:VEVENT
BEGIN:VEVENT
DTSTART;VALUE=DATE:20240106
DTEND;VALUE=DATE:20240108
DTSTAMP:20260424T231810
CREATED:20231203T215918Z
LAST-MODIFIED:20231204T171338Z
UID:25208-1704499200-1704671999@www.amerpoultryassn.com
SUMMARY:Florida Sunshine Classic
DESCRIPTION:FLORIDA POULTRY FANCIERS ASSOCIATON \n2024 Florida Sunshine Classic Double Show \nAPA DISTRICT and CLUB MEET \nABA DISTRICT and SPECIAL MEET
URL:https://www.amerpoultryassn.com/event/florida-sunshine-classic/
LOCATION:MO
CATEGORIES:APA Sanctioned Event,District Meet
END:VEVENT
BEGIN:VEVENT
DTSTART;VALUE=DATE:20240106
DTEND;VALUE=DATE:20240107
DTSTAMP:20260424T231810
CREATED:20231120T225101Z
LAST-MODIFIED:20231121T170636Z
UID:24879-1704499200-1704585599@www.amerpoultryassn.com
SUMMARY:Bluebonnet Classic Poultry Show
DESCRIPTION:Bluebonnet Classic Poultry Show\nProudly hosted by the Brazos Valley Poultry Club\nJanuary 6\, 2024 | Navasota\, Texas \nThe Bluebonnet Classic is an APA and ABA sanctioned poultry show with open\, junior\, and “backyard” divisions. We have grown into the largest poultry show in the state of Texas and strive to provide an exceptional experience to new and experienced exhibitors alike. In addition to the poultry show\, we also offer an egg show\, showmanship competition\, silent auction\, and multiple family-friendly activities during the day of the show. \n2024 Judges: Jacob Bates\, Conor Keegan\, Emmitt Wild \nPlease visit our webiste (www.bluebonnetclassic.com) for additional information and to download the show catalog and entry forms. Entries must be postmarked by December 22\, 2023. \nDue to in-state regulations\, our show is only open to Texas exhibitors.
URL:https://www.amerpoultryassn.com/event/bluebonnet-classic-poultry-show/
LOCATION:Grimes County Expo Center & Fairgrounds – Navasota\, TX\, 5220 FM 3455\, Navasota\, TX\, 77868\, United States
CATEGORIES:APA Sanctioned Event
ATTACH;FMTTYPE=image/png:https://www.amerpoultryassn.com/wp-content/uploads/2023/11/BVPC-2024-APA-Yearbook-Ad.png
ORGANIZER;CN="Brazos Valley Poultry Club":MAILTO:bvpoultryclub@gmail.com
END:VEVENT
BEGIN:VEVENT
DTSTART;VALUE=DATE:20231230
DTEND;VALUE=DATE:20231231
DTSTAMP:20260424T231810
CREATED:20230912T171304Z
LAST-MODIFIED:20230918T163555Z
UID:23234-1703894400-1703980799@www.amerpoultryassn.com
SUMMARY:Tucson Fancy Fowl Poultry and Pigeon Double Show
DESCRIPTION:Tucson Fancy Fowl Poultry and Pigeon Double Show \nSuperintendent: Allen Wetherbee \nPlease visit our website: www.tucsonfancyfowl.com to learn more
URL:https://www.amerpoultryassn.com/event/tucson-fancy-fowl-poultry-and-pigeon-double-show/
LOCATION:Pima County Fairgrounds\, 11300 S Houghton Rd.\, Tucson\, AZ\, 85747\, United States
ATTACH;FMTTYPE=image/png:https://www.amerpoultryassn.com/wp-content/uploads/2023/09/2023-TFF-FB-Cover.png
ORGANIZER;CN="Tucson Fancy Fowl":MAILTO:tucsonffc@gmail.com
END:VEVENT
BEGIN:VEVENT
DTSTART;VALUE=DATE:20231202
DTEND;VALUE=DATE:20231203
DTSTAMP:20260424T231810
CREATED:20231005T174305Z
LAST-MODIFIED:20231005T174305Z
UID:23673-1701475200-1701561599@www.amerpoultryassn.com
SUMMARY:2023 Oklahoma Mini Mega & 2nd Annual JR Nationals
DESCRIPTION:December 2nd\, 2023 – Cleveland County Fairgrounds\, Norman\, OK. \n2nd Annual 2023 Junior National Poultry Championship & Oklahoma Mini Mega Open Show \n \n2nd Annual Junior Nationals will feature Large Fowl\, Bantams\, Waterfowl\, Turkey and Guineas. Along with MEGA National Jr Showmanship\, Chicken Dance\, Raffles\, Family of the Year and our Junior Exhibitors of the Year. \nAlso\, the Oklahoma Mini MEGA Championship which will include Large Fowl\, Bantams\, All Waterfowl\, Turkey and Guineas. \nSomething for the entire family.
URL:https://www.amerpoultryassn.com/event/2023-oklahoma-mini-mega-2nd-annual-jr-nationals/
LOCATION:MO
CATEGORIES:APA Sanctioned Event
ATTACH;FMTTYPE=image/jpeg:https://www.amerpoultryassn.com/wp-content/uploads/2023/09/2023-MEGA-Jr-Nats-MAIN-scaled.jpg
ORGANIZER;CN="Canadian Valley Poultry Club":MAILTO:apajudge1009@aol.com
END:VEVENT
BEGIN:VEVENT
DTSTART;VALUE=DATE:20231125
DTEND;VALUE=DATE:20231126
DTSTAMP:20260424T231810
CREATED:20230917T171111Z
LAST-MODIFIED:20230918T163400Z
UID:23397-1700870400-1700956799@www.amerpoultryassn.com
SUMMARY:Kansas Mini Mega Poultry Show
DESCRIPTION:All events. APA & ABA Sanctioned. Large Fowl\, Bantams\, Turkeys\, Bantam Ducks\, Duck\, Geese\, Guinea’s. Great Awards\, Fantastic Venue family friendly with JR Showmanship\, Chicken Dance and much more. Judges are Zeb Skow-IA and Bart Pals-IA. Jason Bell Jr Waterfowl and Junior Large Bantams. Held at the Kansas State Fairgrounds in Hutchinson\, KS on Thanksgiving Weekend each year.
URL:https://www.amerpoultryassn.com/event/kansas-mini-mega-poultry-show/
LOCATION:MO
CATEGORIES:APA Sanctioned Event
ATTACH;FMTTYPE=image/jpeg:https://www.amerpoultryassn.com/wp-content/uploads/2023/09/KS.Mini_.Mega_.2023.jpg
END:VEVENT
BEGIN:VEVENT
DTSTART;TZID=UTC:20231118T090000
DTEND;TZID=UTC:20231119T103000
DTSTAMP:20260424T231810
CREATED:20231019T052334Z
LAST-MODIFIED:20231019T201943Z
UID:24028-1700298000-1700389800@www.amerpoultryassn.com
SUMMARY:NEBRASKA STATE POULTRY SHOW
DESCRIPTION:ABA AND APA SANCTIONED SHOW
URL:https://www.amerpoultryassn.com/event/nfbraska-state-poultry-show/
LOCATION:MO
CATEGORIES:APA Sanctioned Event
ORGANIZER;CN="Nebraska State Poultry Association":MAILTO:nestatepoultryassociation@gmail.com
END:VEVENT
BEGIN:VEVENT
DTSTART;TZID=UTC:20231118T080000
DTEND;TZID=UTC:20231119T170000
DTSTAMP:20260424T231810
CREATED:20230918T163220Z
LAST-MODIFIED:20230918T163515Z
UID:23427-1700294400-1700413200@www.amerpoultryassn.com
SUMMARY:Nebraska State Poultry Association
DESCRIPTION:Located in Lincoln NE the Nebraska State Poultry Association is the 2023 host for International Waterfowl Breeders Association Western National & American Langshan Club National.  District Shows for American Bantam Association\, Polish Breeder’s Club\, International Cornish Breeders Association\, National Call Breeders Association and National Sebastopol Geese Association among many other special meets.  Come join us for the 138th annual show!
URL:https://www.amerpoultryassn.com/event/nebraska-state-poultry-association/
LOCATION:Lancaster\, 4100 N. 84th Street\, Lincoln\, NE\, 68507\, United States
CATEGORIES:APA Sanctioned Event
ATTACH;FMTTYPE=image/png:https://www.amerpoultryassn.com/wp-content/uploads/2023/09/color_with_background@2x.png
ORGANIZER;CN="Nebraska State Poultry Association":MAILTO:nestatepoultryassociation@gmail.com
END:VEVENT
BEGIN:VEVENT
DTSTART;TZID=UTC:20231118T080000
DTEND;TZID=UTC:20231118T170000
DTSTAMP:20260424T231810
CREATED:20231103T182453Z
LAST-MODIFIED:20231103T182631Z
UID:24301-1700294400-1700326800@www.amerpoultryassn.com
SUMMARY:Southern California Poultry Club
DESCRIPTION:2 Card show APA/ABA
URL:https://www.amerpoultryassn.com/event/southern-california-poultry-club/
LOCATION:MO
ATTACH;FMTTYPE=image/png:https://www.amerpoultryassn.com/wp-content/uploads/2023/11/scpcflyer.png
END:VEVENT
BEGIN:VEVENT
DTSTART;VALUE=DATE:20231110
DTEND;VALUE=DATE:20231113
DTSTAMP:20260424T231810
CREATED:20221202T155118Z
LAST-MODIFIED:20230828T143937Z
UID:16398-1699574400-1699833599@www.amerpoultryassn.com
SUMMARY:2023 APA 150th Anniversary Annual Show
DESCRIPTION:The Ohio Poultry Breeders will be hosting the 2023 APA Annual. The show will be held in Columbus\, Ohio at the Ohio Expo Center. Check our website (http://www.ohionational.org/) for updates and contact information.
URL:https://www.amerpoultryassn.com/event/2023-apa-150th-anniversary-annual/
LOCATION:MO
CATEGORIES:APA Annual and Semi Annual
ATTACH;FMTTYPE=image/png:https://www.amerpoultryassn.com/wp-content/uploads/2022/12/Ohio-National-ad.png
END:VEVENT
BEGIN:VEVENT
DTSTART;VALUE=DATE:20231104
DTEND;VALUE=DATE:20231105
DTSTAMP:20260424T231810
CREATED:20230916T164430Z
LAST-MODIFIED:20230918T163531Z
UID:23369-1699056000-1699142399@www.amerpoultryassn.com
SUMMARY:2023 MEGA SHOW
DESCRIPTION:Full Poultry Event including Large Fowl\, Bantams\, Geese\, Ducks\, Bantam Ducks\, Turkeys\, Guineas\, and Giant Egg Show. Competition in both Open and Junior divisions. 30 Breed Specials ($12\,000.00 in add-on money alone) plus regular huge show premiums. Jr Showmanship\,  Chicken Dance\, ALFA Nationals\, New Hamp Western Nationals\, Cornish Western Nationals\, Barred Rock Nationals\, and much more. Events for the entire family. Nov. 4th in Norman\, OK. Special sleeping room Special Rates\, Free Parking\, Free Events for the whole family.
URL:https://www.amerpoultryassn.com/event/2023-mega-show/
LOCATION:MO
CATEGORIES:APA Sanctioned Event
ATTACH;FMTTYPE=image/jpeg:https://www.amerpoultryassn.com/wp-content/uploads/2023/09/2023.MEGA_.Master.Ad_-scaled.jpg
END:VEVENT
BEGIN:VEVENT
DTSTART;TZID=UTC:20231103T080000
DTEND;TZID=UTC:20231105T170000
DTSTAMP:20260424T231810
CREATED:20231018T064356Z
LAST-MODIFIED:20231019T201927Z
UID:24010-1698998400-1699203600@www.amerpoultryassn.com
SUMMARY:Fraser Valley Poultry Fanciers Winter Show
DESCRIPTION:We are excited to welcome everyone to the 2023 FVPFA Winter Show! \nDates: November 3-5\, 2023\, coop-in November 3\, 2023 from 5 pm to 9 pm\, judging November 4\, 2023 and coop-out November 5\, 2023 by 9:30 am. \nLocation: Cadet Hall\, Abbotsford Exhibition Park – 32470 Haida Drive\, Abbotsford BC \nJudge: Heather Hayes\, Armstrong\, BC \nEntry Received Deadline: October 23\, 2023 at 4 pm Pacific Time \nContact Information: showchairman@fvpfa.org
URL:https://www.amerpoultryassn.com/event/fraser-valley-poultry-fanciers-winter-show-2/
LOCATION:Abbotsford Cadet Building\, 32470 Haida Drive\, Abbotsford\, British Columbia\, Canada
CATEGORIES:APA Sanctioned Event
END:VEVENT
BEGIN:VEVENT
DTSTART;VALUE=DATE:20231027
DTEND;VALUE=DATE:20231030
DTSTAMP:20260424T231810
CREATED:20230627T131552Z
LAST-MODIFIED:20230828T143937Z
UID:20687-1698364800-1698623999@www.amerpoultryassn.com
SUMMARY:Heart of the Ozark Poultry Association 14th Anniversary Show!
DESCRIPTION:This is a sactioned show APA / ABA.  The show is nestled in the Ozarks in Fall color! \nCoop in Friday (10-27-23) 3pm to 9 pm \nDouble show / can coop out Saterday (10-28) after awards\, or Sunday (10-29) by 9 am.
URL:https://www.amerpoultryassn.com/event/heart-of-the-ozark-poultry-association-14th-anniversary-show/
LOCATION:Pauline Whitaker Animal Science Center\, Fayetteville\, AR\, United States
CATEGORIES:APA Sanctioned Event
ATTACH;FMTTYPE=image/jpeg:https://www.amerpoultryassn.com/wp-content/uploads/2023/06/IMG_5203.jpg
END:VEVENT
BEGIN:VEVENT
DTSTART;VALUE=DATE:20231021
DTEND;VALUE=DATE:20231023
DTSTAMP:20260424T231810
CREATED:20221202T154449Z
LAST-MODIFIED:20230828T143937Z
UID:16395-1697846400-1698019199@www.amerpoultryassn.com
SUMMARY:2023 APA 150th Anniversary Canadian National
DESCRIPTION:The Ontario Poultry Breeders will be hosting the 2023 Canadian National. This show is to be held October 21 & 22 \,2023 at the West Niagara Fairgrounds Grassie\, Ontario. Check our website (https://ontariopoultrybreeders.webs.com/) for updates and contact information.
URL:https://www.amerpoultryassn.com/event/2023-apa-150th-anniversary-canadian-national/
LOCATION:MO
CATEGORIES:APA Annual and Semi Annual
ATTACH;FMTTYPE=image/png:https://www.amerpoultryassn.com/wp-content/uploads/2022/12/APA-Canadaannual2-2023.png
END:VEVENT
BEGIN:VEVENT
DTSTART;TZID=UTC:20231014T080000
DTEND;TZID=UTC:20231015T120000
DTSTAMP:20260424T231810
CREATED:20230828T143549Z
LAST-MODIFIED:20230828T143938Z
UID:22648-1697270400-1697371200@www.amerpoultryassn.com
SUMMARY:Michigan Fowl Fest
DESCRIPTION:Double Show
URL:https://www.amerpoultryassn.com/event/michigan-fowl-fest/
LOCATION:Saginaw County Fairgrounds\, 11350 Peet Rd\, Chesaning\, MI\, 48616\, United States
CATEGORIES:APA Sanctioned Event,Breed meet
ATTACH;FMTTYPE=image/jpeg:https://www.amerpoultryassn.com/wp-content/uploads/2023/08/ad-PP-3x7-Fowl-Fest-2023.jpg
ORGANIZER;CN="Michigan Poultry Fanciers":MAILTO:entries@fowlfest.org
END:VEVENT
BEGIN:VEVENT
DTSTART;TZID=UTC:20231007T060000
DTEND;TZID=UTC:20231008T103000
DTSTAMP:20260424T231810
CREATED:20230212T135906Z
LAST-MODIFIED:20230828T143938Z
UID:17700-1696658400-1696761000@www.amerpoultryassn.com
SUMMARY:Dayton Fancy Feather Club Fall Show
DESCRIPTION:Double Card show for Open and Jr show.
URL:https://www.amerpoultryassn.com/event/dayton-fancy-feather-club-fall-show-2/
LOCATION:Darke County Fairgrounds\, 800 Sweitzer St\, Greenville\, OH\, 45331
CATEGORIES:Club Event
ORGANIZER;CN="Dayton Fancy Feather Club":MAILTO:amanda.heitzman@hotmail.com
END:VEVENT
BEGIN:VEVENT
DTSTART;TZID=UTC:20230923T080000
DTEND;TZID=UTC:20230924T180000
DTSTAMP:20260424T231810
CREATED:20230319T215806Z
LAST-MODIFIED:20230828T143938Z
UID:17766-1695456000-1695578400@www.amerpoultryassn.com
SUMMARY:Old Dominion Poultry Association Fall Show
DESCRIPTION:APA state meet\, double card show and many other breed club meets\, APA\, ABA sanctioned. Two day show during the state fair at Meadow Event Park Doswell\, Va. and all exhibitors will get free tickets and parking to the fair during the poultry show dates. Check out updated catalog on our website as well as Poultry Show Central. Can email club with questions at odpa@gmail.com. \n 
URL:https://www.amerpoultryassn.com/event/old-dominion-poultry-association-fall-show/
LOCATION:Virginia State Fair at Meadow Event Park\, 13191 Dawn Blvd\, Doswell\, Virginia
CATEGORIES:APA Sanctioned Event,Breed meet,State Meet
ORGANIZER;CN="Old Dominion Poultry Association":MAILTO:odpa@gmail.com
END:VEVENT
BEGIN:VEVENT
DTSTART;VALUE=DATE:20230923
DTEND;VALUE=DATE:20230925
DTSTAMP:20260424T231810
CREATED:20230126T164159Z
LAST-MODIFIED:20230828T143938Z
UID:17341-1695427200-1695599999@www.amerpoultryassn.com
SUMMARY:Wisconsin International Poultry Show
DESCRIPTION:Join us for weekend of fun\, fellowship and feathers at the 2023 Wisconsin International Poultry Show: September 23-24\, 2023
URL:https://www.amerpoultryassn.com/event/wisconsin-international-poultry-show-2/
LOCATION:Columbia County Fairgrounds\, Portage\, WI\, 393 Wauona Trail\, Portage\, WI\, 53901\, United States
CATEGORIES:Breed meet,State Meet
ATTACH;FMTTYPE=image/jpeg:https://www.amerpoultryassn.com/wp-content/uploads/2023/01/2023-WIPS-Poster2.jpg
ORGANIZER;CN="Wisconsin International Poultry Club":MAILTO:Lundpoultry@yahoo.com
END:VEVENT
BEGIN:VEVENT
DTSTART;VALUE=DATE:20230909
DTEND;VALUE=DATE:20230910
DTSTAMP:20260424T231810
CREATED:20230814T143054Z
LAST-MODIFIED:20230828T143938Z
UID:22159-1694217600-1694303999@www.amerpoultryassn.com
SUMMARY:IL-MO Poultry Club Show
DESCRIPTION:One day double show! Being held at the Madison County Fairgrounds in Highland\, IL.
URL:https://www.amerpoultryassn.com/event/il-mo-poultry-club-show/
LOCATION:Madison County Fairgrounds\, 2025 Parkhill Dr\, Highland\, IL\, 62249\, United States
ORGANIZER;CN="IL-MO Poultry Club":MAILTO:ilmopoultryclub@gmail.com
END:VEVENT
BEGIN:VEVENT
DTSTART;VALUE=DATE:20230903
DTEND;VALUE=DATE:20230904
DTSTAMP:20260424T231810
CREATED:20230308T213203Z
LAST-MODIFIED:20230828T143939Z
UID:18258-1693699200-1693785599@www.amerpoultryassn.com
SUMMARY:Nebraska State Fair
DESCRIPTION:Open Class Poultry Show
URL:https://www.amerpoultryassn.com/event/nebraska-state-fair/
LOCATION:MO
CATEGORIES:Club Event
ATTACH;FMTTYPE=image/png:https://www.amerpoultryassn.com/wp-content/uploads/2023/03/2021_NESF_logo_CMYK-2.png
END:VEVENT
END:VCALENDAR