BEGIN:VCALENDAR
VERSION:2.0
PRODID:-//The American Poultry Association (APA) - ECPv6.15.20//NONSGML v1.0//EN
CALSCALE:GREGORIAN
METHOD:PUBLISH
X-WR-CALNAME:The American Poultry Association (APA)
X-ORIGINAL-URL:https://www.amerpoultryassn.com
X-WR-CALDESC:Events for The American Poultry Association (APA)
REFRESH-INTERVAL;VALUE=DURATION:PT1H
X-Robots-Tag:noindex
X-PUBLISHED-TTL:PT1H
BEGIN:VTIMEZONE
TZID:UTC
BEGIN:STANDARD
TZOFFSETFROM:+0000
TZOFFSETTO:+0000
TZNAME:UTC
DTSTART:20230101T000000
END:STANDARD
END:VTIMEZONE
BEGIN:VTIMEZONE
TZID:America/Denver
BEGIN:DAYLIGHT
TZOFFSETFROM:-0700
TZOFFSETTO:-0600
TZNAME:MDT
DTSTART:20230312T090000
END:DAYLIGHT
BEGIN:STANDARD
TZOFFSETFROM:-0600
TZOFFSETTO:-0700
TZNAME:MST
DTSTART:20231105T080000
END:STANDARD
BEGIN:DAYLIGHT
TZOFFSETFROM:-0700
TZOFFSETTO:-0600
TZNAME:MDT
DTSTART:20240310T090000
END:DAYLIGHT
BEGIN:STANDARD
TZOFFSETFROM:-0600
TZOFFSETTO:-0700
TZNAME:MST
DTSTART:20241103T080000
END:STANDARD
BEGIN:DAYLIGHT
TZOFFSETFROM:-0700
TZOFFSETTO:-0600
TZNAME:MDT
DTSTART:20250309T090000
END:DAYLIGHT
BEGIN:STANDARD
TZOFFSETFROM:-0600
TZOFFSETTO:-0700
TZNAME:MST
DTSTART:20251102T080000
END:STANDARD
END:VTIMEZONE
BEGIN:VEVENT
DTSTART;VALUE=DATE:20250329
DTEND;VALUE=DATE:20250331
DTSTAMP:20260425T003451
CREATED:20231005T173913Z
LAST-MODIFIED:20240503T134358Z
UID:23811-1743206400-1743379199@www.amerpoultryassn.com
SUMMARY:2025 APA Semi-Annual Meet
DESCRIPTION:Moon City Poultry Club Show\nDouble Open & Jr shows\nContact: \nmooncitypoultryclub@yahoo.com \nLeisha Comer \n419-236-9500 \nor \nStephanie Schmehl \n419-204-0113 \n 
URL:https://www.amerpoultryassn.com/event/moon-city-poultry-club-show-2025/
LOCATION:Auglaize County Fairgrounds\, 1001 Fairview Dr.\, Wapakoneta\, OH\, 45895\, United States
CATEGORIES:APA Annual and Semi Annual
ORGANIZER;CN="Moon City Poultry Club":MAILTO:mooncitypoultryclub@yahoo.com
END:VEVENT
BEGIN:VEVENT
DTSTART;VALUE=DATE:20250104
DTEND;VALUE=DATE:20250105
DTSTAMP:20260425T003451
CREATED:20240817T162309Z
LAST-MODIFIED:20240817T163239Z
UID:32812-1735948800-1736035199@www.amerpoultryassn.com
SUMMARY:Bluebonnet Classic 2025
DESCRIPTION:Bluebonnet Classic 2025\nHosted by the Brazos Valley Poultry Club\nFor more information email Bvpoultryclub@gmail.com
URL:https://www.amerpoultryassn.com/event/bluebonnet-classic-2025/
LOCATION:OH
CATEGORIES:APA Sanctioned Event
ORGANIZER;CN="Brazos Valley Poultry Club":MAILTO:bvpoultryclub@gmail.com
END:VEVENT
BEGIN:VEVENT
DTSTART;TZID=UTC:20241221T000000
DTEND;TZID=UTC:20241221T235900
DTSTAMP:20260425T003451
CREATED:20240811T185534Z
LAST-MODIFIED:20240818T175929Z
UID:32717-1734739200-1734825540@www.amerpoultryassn.com
SUMMARY:South Texas Fall Classic
DESCRIPTION:South Texas Fall Classic\nDecember 21\, 2024\n\n 
URL:https://www.amerpoultryassn.com/event/32717/
LOCATION:OH
CATEGORIES:APA Sanctioned Event
END:VEVENT
BEGIN:VEVENT
DTSTART;VALUE=DATE:20241214
DTEND;VALUE=DATE:20241216
DTSTAMP:20260425T003451
CREATED:20230205T185255Z
LAST-MODIFIED:20240506T110148Z
UID:17544-1734134400-1734307199@www.amerpoultryassn.com
SUMMARY:2024 APA Annual Meet
DESCRIPTION:Oklahoma State Poultry Federation \nAPA Annual Meet\n\n  \n\n 
URL:https://www.amerpoultryassn.com/event/oklahoma-state-poultry-federation-show/
LOCATION:Heart of Oklahoma Exposition Center\, 1700 West Independence Avenue\, Shawnee\, OK\, United States
CATEGORIES:APA Annual and Semi Annual
ORGANIZER;CN="Oklahoma State Poultry Federation":MAILTO:oklahomastatepoultryfederation@gmail.com
END:VEVENT
BEGIN:VEVENT
DTSTART;VALUE=DATE:20241123
DTEND;VALUE=DATE:20241124
DTSTAMP:20260425T003451
CREATED:20241004T125406Z
LAST-MODIFIED:20241004T134012Z
UID:33880-1732320000-1732406399@www.amerpoultryassn.com
SUMMARY:2024 Masters Cup Poultry Show
DESCRIPTION:Masters Cup Poultry Show
URL:https://www.amerpoultryassn.com/event/2024-masters-cup-poultry-show/
LOCATION:Hamilton County Fairgrounds\, 1200 Bluff St\, Webster City\, IA\, 50595\, United States
CATEGORIES:APA Sanctioned Event
ORGANIZER;CN="Master Cup Poultry Show":MAILTO:apa@netins.net
END:VEVENT
BEGIN:VEVENT
DTSTART;VALUE=DATE:20241102
DTEND;VALUE=DATE:20241104
DTSTAMP:20260425T003451
CREATED:20240522T164721Z
LAST-MODIFIED:20240817T163352Z
UID:30255-1730505600-1730678399@www.amerpoultryassn.com
SUMMARY:16th Annual Heart of the Ozark Poultry Association
DESCRIPTION:The HOTOPA Show is hosting\nWestern National Cochin International\nAmeraucana Alliance National\nABA District Meet
URL:https://www.amerpoultryassn.com/event/16th-annual-heart-of-the-ozark-poultry-association/
LOCATION:Pauline Whitaker Animal Science Center\, Fayetteville\, AR\, United States
CATEGORIES:APA Sanctioned Event
END:VEVENT
BEGIN:VEVENT
DTSTART;VALUE=DATE:20241019
DTEND;VALUE=DATE:20241020
DTSTAMP:20260425T003451
CREATED:20240201T220724Z
LAST-MODIFIED:20240201T220724Z
UID:26867-1729296000-1729382399@www.amerpoultryassn.com
SUMMARY:Rocky Mountain Feather Fanciers Fall Show
DESCRIPTION:Rocky Mountain Feather Fanciers Fall Show
URL:https://www.amerpoultryassn.com/event/rocky-mountain-feather-fanciers-fall-show/
LOCATION:Adams County Fairgrounds\, 9755 Henderson Rd\, Brighton\, CO\, 80601\, United States
ORGANIZER;CN="Rocky Mountain Feather Fanciers":MAILTO:featherfanciers@yahoo.com
END:VEVENT
BEGIN:VEVENT
DTSTART;TZID=UTC:20241005T080000
DTEND;TZID=UTC:20241005T170000
DTSTAMP:20260425T003451
CREATED:20240714T155554Z
LAST-MODIFIED:20240714T203038Z
UID:31940-1728115200-1728147600@www.amerpoultryassn.com
SUMMARY:Dayton Fancy Feather Club Fall Show
DESCRIPTION:National Call Duck Breeders of American National Meet\nJapanese Breeders Association National Meet
URL:https://www.amerpoultryassn.com/event/dayton-fancy-feather-club-fall-show-3/
LOCATION:OH
CATEGORIES:APA Sanctioned Event
END:VEVENT
BEGIN:VEVENT
DTSTART;VALUE=DATE:20240928
DTEND;VALUE=DATE:20240930
DTSTAMP:20260425T003451
CREATED:20230205T184503Z
LAST-MODIFIED:20240503T235907Z
UID:17539-1727481600-1727654399@www.amerpoultryassn.com
SUMMARY:2024 APA Canadian National Meet
DESCRIPTION:Alberta Poultry Breeders Association\n(formerly Canadian Heritage Breeds) Wild Rose Classic Double Show
URL:https://www.amerpoultryassn.com/event/alberta-poultry-breeders-assn-wild-rose-classic/
LOCATION:Olds Cow Palace\, 5116 54th Street\, Olds\, Alberta\, Canada
CATEGORIES:APA Annual and Semi Annual
END:VEVENT
BEGIN:VEVENT
DTSTART;VALUE=DATE:20240808
DTEND;VALUE=DATE:20240818
DTSTAMP:20260425T003451
CREATED:20230821T193108Z
LAST-MODIFIED:20230828T143936Z
UID:22501-1723075200-1723939199@www.amerpoultryassn.com
SUMMARY:NORTHWEST WASHINGTON FAIR
DESCRIPTION:Poultry show at the northwest washington fair\, judged by a liscenced APA judge
URL:https://www.amerpoultryassn.com/event/northwest-washington-fair/
LOCATION:Hamilton County Fairgrounds\, 1200 Bluff St\, Webster City\, IA\, 50595\, United States
END:VEVENT
BEGIN:VEVENT
DTSTART;VALUE=DATE:20240808
DTEND;VALUE=DATE:20240810
DTSTAMP:20260425T003451
CREATED:20240111T152740Z
LAST-MODIFIED:20240111T152740Z
UID:26322-1723075200-1723247999@www.amerpoultryassn.com
SUMMARY:Illinois State Fair
DESCRIPTION:The Illinois State Fair host hoth open and Jr poultry shows .  This years dates are open show  Thursday August 8\, 2024 and Jr show Friday August 9\, 2024
URL:https://www.amerpoultryassn.com/event/illinois-state-fair-2/
LOCATION:OH
CATEGORIES:Club Event
END:VEVENT
BEGIN:VEVENT
DTSTART;VALUE=DATE:20240802
DTEND;VALUE=DATE:20240804
DTSTAMP:20260425T003451
CREATED:20240201T220555Z
LAST-MODIFIED:20240201T220555Z
UID:27235-1722556800-1722729599@www.amerpoultryassn.com
SUMMARY:Ozark Empire Fair
DESCRIPTION:The Ozark Empire Fair hosts a youth and open poultry show. Junior show on Friday\, August 2\, and Open show on Saturday\, August 3. Come check out the fairgrounds’ brand new Wilson Logistics Arena and show in the new temperature controlled facility.
URL:https://www.amerpoultryassn.com/event/ozark-empire-fair/
LOCATION:Ozark Empire Fair\, 3001 N. Grant Ave\, Springfield\, MO\, 65803\, United States
CATEGORIES:APA Sanctioned Event
ATTACH;FMTTYPE=image/jpeg:https://www.amerpoultryassn.com/wp-content/uploads/2024/02/OEF-2024-LOGO-CIRCLE-scaled.jpg
ORGANIZER;CN="Ozark Empire Fair":MAILTO:karson@ozarkempirefair.com
END:VEVENT
BEGIN:VEVENT
DTSTART;VALUE=DATE:20240710
DTEND;VALUE=DATE:20240714
DTSTAMP:20260425T003451
CREATED:20240201T220840Z
LAST-MODIFIED:20240201T220840Z
UID:26577-1720569600-1720915199@www.amerpoultryassn.com
SUMMARY:Newton county fair poultry show
DESCRIPTION:This is a show we run during the fair. From July 10th to July 13th. Judging for poultry is July 10th and 11th. We will post entry information on the Newton County Fair Facebook page. \nEmail crystalc.ncfpoultry@gmail.com  for any questions.
URL:https://www.amerpoultryassn.com/event/newton-county-fair-poultry-show/
LOCATION:OH
ATTACH;FMTTYPE=image/jpeg:https://www.amerpoultryassn.com/wp-content/uploads/2024/01/1000001255.jpg
END:VEVENT
BEGIN:VEVENT
DTSTART;TZID=UTC:20240602T080000
DTEND;TZID=UTC:20240602T150000
DTSTAMP:20260425T003451
CREATED:20240201T220639Z
LAST-MODIFIED:20240201T220639Z
UID:26928-1717315200-1717340400@www.amerpoultryassn.com
SUMMARY:Kingston & District Poultry & Pet Stock Association Show
DESCRIPTION:APA sanctioned poultry show in Ontario\, Canada
URL:https://www.amerpoultryassn.com/event/kingston-district-poultry-pet-stock-association-show/
LOCATION:Odessa\, Ontario Fairgrounds\, 231 Main St.\, Odessa\, Ontario\, Canada
CATEGORIES:APA Sanctioned Event
ORGANIZER;CN="Kingston &amp%3B District Poultry &amp%3B Pet Stock Association":MAILTO:kdppsa@kdppsa.ca
END:VEVENT
BEGIN:VEVENT
DTSTART;VALUE=DATE:20240525
DTEND;VALUE=DATE:20240527
DTSTAMP:20260425T003451
CREATED:20240219T173348Z
LAST-MODIFIED:20240219T173436Z
UID:27398-1716595200-1716767999@www.amerpoultryassn.com
SUMMARY:Saulk Trail Poultry Club Double Show
DESCRIPTION:Saulk Trail Poultry Club annual 2 day\, double card show. APA\, ABA\, and YEPA sanctioned in Hillsdale\, MI.
URL:https://www.amerpoultryassn.com/event/saulk-trail-poultry-club-double-show/
LOCATION:Hillsdale County Fairgrounds\, Hillsdale MI\, 115 S. Broad St.\, Hillsdale\, MI\, 49242\, United States
CATEGORIES:APA Sanctioned Event,State Meet
ATTACH;FMTTYPE=image/jpeg:https://www.amerpoultryassn.com/wp-content/uploads/2024/02/inbound5148091452700577009.jpg
ORGANIZER;CN="Saulk Trail Poultry Club":MAILTO:saulktrailpoultry@gmail.com
END:VEVENT
BEGIN:VEVENT
DTSTART;TZID=UTC:20240519T060000
DTEND;TZID=UTC:20240519T170000
DTSTAMP:20260425T003451
CREATED:20240226T160826Z
LAST-MODIFIED:20240226T160826Z
UID:27959-1716098400-1716138000@www.amerpoultryassn.com
SUMMARY:Tri-State Poultry Association Show
DESCRIPTION:3rd Annual Show ~ 2 Days/2 Shows ~ APA & ABA Sanctioned \nFeaturing APA District #2 Meet – Saturday\, May 18\, 2024 \nJudges: Tom Roebuck and Lewis Cunningham \nShow catalog and more information can be found on our facebook page
URL:https://www.amerpoultryassn.com/event/tri-state-poultry-association-show-2/
LOCATION:Trumbull County Fairgrounds\, 899 Everett Hull Road\, Cortland\, OH\, 44410\, United States
ATTACH;FMTTYPE=image/jpeg:https://www.amerpoultryassn.com/wp-content/uploads/2024/02/2024-Facebook-Flyer.jpg
ORGANIZER;CN="Tri-State Poultry Association":MAILTO:tristatepoultryshow@gmail.com
END:VEVENT
BEGIN:VEVENT
DTSTART;TZID=UTC:20240518T060000
DTEND;TZID=UTC:20240518T170000
DTSTAMP:20260425T003451
CREATED:20240226T160757Z
LAST-MODIFIED:20240226T160757Z
UID:28070-1716012000-1716051600@www.amerpoultryassn.com
SUMMARY:Tri-State Poultry Association Show
DESCRIPTION:3rd Annual Show ~ 2 Days/2 Shows ~ APA & ABA Sanctioned \nFeaturing APA District #2 Meet – Saturday\, May 18\, 2024 \nJudges: Tom Roebuck and Lewis Cunningham \nShow catalog and more information can be found on our facebook page
URL:https://www.amerpoultryassn.com/event/tri-state-poultry-association-show/
LOCATION:Trumbull County Fairgrounds\, 899 Everett Hull Road\, Cortland\, OH\, 44410\, United States
ATTACH;FMTTYPE=image/jpeg:https://www.amerpoultryassn.com/wp-content/uploads/2024/02/2024-Facebook-Flyer.jpg
ORGANIZER;CN="Tri-State Poultry Association":MAILTO:tristatepoultryshow@gmail.com
END:VEVENT
BEGIN:VEVENT
DTSTART;TZID=UTC:20240427T090000
DTEND;TZID=UTC:20240427T140000
DTSTAMP:20260425T003451
CREATED:20240317T001401Z
LAST-MODIFIED:20240317T001401Z
UID:28686-1714208400-1714226400@www.amerpoultryassn.com
SUMMARY:Poultry and Small Animal Swap
DESCRIPTION:Poultry and small animal swap.  Admission and spots are free.  Located in the parking lot of Family Farm and Home\, 2196 W 4th St Ontario Ohio 44906.
URL:https://www.amerpoultryassn.com/event/poultry-and-small-animal-swap/
LOCATION:OH
ATTACH;FMTTYPE=image/jpeg:https://www.amerpoultryassn.com/wp-content/uploads/2024/03/received_364931646458244.jpeg
END:VEVENT
BEGIN:VEVENT
DTSTART;TZID=UTC:20240426T120000
DTEND;TZID=UTC:20240428T110000
DTSTAMP:20260425T003451
CREATED:20240314T222107Z
LAST-MODIFIED:20240314T222107Z
UID:28444-1714132800-1714302000@www.amerpoultryassn.com
SUMMARY:Dayton Fancy Feather Club Spring Show
DESCRIPTION:Double Card Show for both Open and Jr Show.  Approximately $2500 given in awards.  We will have a raffle table 50/50 drawing\, several breed club meets\, vendors area including 10X10 sports and sale cages.  Cages are single stacked in a nice wide open barn.  Located at Darke County Fairgrounds in Greenville\, OH.  Show catalog available on club website and show poultry central.  Contact daytonfancyfeatherclub@gmail.com for more information or to request a show catalog.
URL:https://www.amerpoultryassn.com/event/dayton-fancy-feather-club-spring-show-3/
LOCATION:OH
ATTACH;FMTTYPE=image/png:https://www.amerpoultryassn.com/wp-content/uploads/2024/03/Dayton-Fancy-Feather-T-Shirt-Back.png
ORGANIZER;CN="Dayton Fancy Feather Club":MAILTO:amanda.heitzman@hotmail.com
END:VEVENT
BEGIN:VEVENT
DTSTART;VALUE=DATE:20240420
DTEND;VALUE=DATE:20240421
DTSTAMP:20260425T003451
CREATED:20240111T152810Z
LAST-MODIFIED:20240111T152810Z
UID:26313-1713571200-1713657599@www.amerpoultryassn.com
SUMMARY:CRPE Spring Invitational
DESCRIPTION:APA/ABA/YEPA Sanctioned\n 
URL:https://www.amerpoultryassn.com/event/crpe-spring-invitational/
LOCATION:OH
CATEGORIES:APA Sanctioned Event
END:VEVENT
BEGIN:VEVENT
DTSTART;TZID=UTC:20240413T090000
DTEND;TZID=UTC:20240413T140000
DTSTAMP:20260425T003451
CREATED:20240306T173944Z
LAST-MODIFIED:20240306T174032Z
UID:28238-1712998800-1713016800@www.amerpoultryassn.com
SUMMARY:White River Poultry Show
DESCRIPTION:Join our Facebook page “white river poultry show” to download info or email emmyn74@gmail.com for a catalogue and entry form.
URL:https://www.amerpoultryassn.com/event/white-river-poultry-show/
LOCATION:Owen County Fairgrounds-Indiana\, 364 S. East St.\, Spencer\, IN\, 47460\, United States
CATEGORIES:APA Sanctioned Event
ATTACH;FMTTYPE=image/jpeg:https://www.amerpoultryassn.com/wp-content/uploads/2024/03/inbound7550502779522343972.jpg
ORGANIZER;CN="White River Poultry Club":MAILTO:Emmyn74@gmail.com
END:VEVENT
BEGIN:VEVENT
DTSTART;VALUE=DATE:20240413
DTEND;VALUE=DATE:20240414
DTSTAMP:20260425T003451
CREATED:20240229T165300Z
LAST-MODIFIED:20240229T165320Z
UID:28141-1712966400-1713052799@www.amerpoultryassn.com
SUMMARY:South Texas Poultry Show -Spring Show
DESCRIPTION:STPC spring show
URL:https://www.amerpoultryassn.com/event/south-texas-poultry-show-spring-show/
LOCATION:OH
CATEGORIES:Club Event
ATTACH;FMTTYPE=image/jpeg:https://www.amerpoultryassn.com/wp-content/uploads/2024/02/South-Texas-Classic-spring-show-2024-Ornate.jpg
END:VEVENT
BEGIN:VEVENT
DTSTART;VALUE=DATE:20240413
DTEND;VALUE=DATE:20240414
DTSTAMP:20260425T003451
CREATED:20240111T152833Z
LAST-MODIFIED:20240111T152833Z
UID:26280-1712966400-1713052799@www.amerpoultryassn.com
SUMMARY:Colorado Poultry Assn Spring Show
DESCRIPTION:Full Event Details at Coloradopoultryassociation.com \nJudge Emmet Wild
URL:https://www.amerpoultryassn.com/event/colorado-poultry-assn-spring-show/
LOCATION:Keenesburg\, CO\, 7758 Co Rd 59\, Keenesburg\, 80643\, United States
CATEGORIES:State Meet
ATTACH;FMTTYPE=image/jpeg:https://www.amerpoultryassn.com/wp-content/uploads/2024/01/CPA-Logo.jpg
ORGANIZER;CN="Derek Brady":MAILTO:coloradopoultryassocaion@gmail.com
END:VEVENT
BEGIN:VEVENT
DTSTART;VALUE=DATE:20240406
DTEND;VALUE=DATE:20240408
DTSTAMP:20260425T003451
CREATED:20230205T183637Z
LAST-MODIFIED:20230828T143937Z
UID:17535-1712361600-1712534399@www.amerpoultryassn.com
SUMMARY:2024 APA Semi-Annual Meet
DESCRIPTION:Delmarva Poultry Fanciers Club Show
URL:https://www.amerpoultryassn.com/event/delmarva-poultry-fanciers-club-show/
LOCATION:Delaware State Fairgrounds\, 18500 South DuPont Highway\, Harrington\, DE\, United States
CATEGORIES:APA Annual and Semi Annual
END:VEVENT
BEGIN:VEVENT
DTSTART;VALUE=DATE:20240330
DTEND;VALUE=DATE:20240331
DTSTAMP:20260425T003451
CREATED:20240112T023635Z
LAST-MODIFIED:20240112T023635Z
UID:26349-1711756800-1711843199@www.amerpoultryassn.com
SUMMARY:Southeast Ohio Poultry Breeders Association Spring Show
DESCRIPTION:SEOPBA Spring Show\, Judges are Bud Blankenship\, Mike Wasvlkowski\, Emily Shoop. \nHosting Dominique\, International Cornish Breeders and International Waterfowl Breeders special meets\, Rosecomb State Meet and American Turkey Association District Meet. \nFeaturing table Judging of turkeys by Mike Wasylkowski. \n 
URL:https://www.amerpoultryassn.com/event/southeast-ohio-poultry-breeders-association-spring-show-2/
LOCATION:OH
CATEGORIES:Club Event
ATTACH;FMTTYPE=image/jpeg:https://www.amerpoultryassn.com/wp-content/uploads/2024/01/image-scaled.jpg
END:VEVENT
BEGIN:VEVENT
DTSTART;TZID=UTC:20240323T090000
DTEND;TZID=UTC:20240323T170000
DTSTAMP:20260425T003451
CREATED:20240112T023657Z
LAST-MODIFIED:20240112T023657Z
UID:26367-1711184400-1711213200@www.amerpoultryassn.com
SUMMARY:Prairie Hatchers 24th Annual YOUTH Show
DESCRIPTION:The Prairie Hatchers invite you to their 24th Annual \nALL Youth Poultry Show!\nThis show is completely organized and arranged by the youth in our club with the adults just to guide us. \nThe Youth Invitational Poultry Show is the Prairie Hatchers largest fundraising event. In addition to the show there will be a bird auction\, raffle that will be full of incredible stuff from our local businesses and of course loads of fun! \nEveryone is welcome to our annual chick and adult bird auction Starting at 3PM. Birds have been donated by quality breeders in the area. The Prairie Hatchers would like to thank everyone who has donated birds to our auction already.\nAs we get closer to the show\, we will post on our Facebook page what adult birds will be available.  As for chicks we will have to wait and see how our hatch goes. \nEmail us for our show catalog\, Donations or for more information!\nprairiehatchers4hclub@gmail.com
URL:https://www.amerpoultryassn.com/event/prairie-hatchers-24th-annual-youth-show/
LOCATION:Clark County Fair Grounds\, 17402 NE Delfel Rd\, Ridgefield\, WA\, 98642\, United States
CATEGORIES:Club Event
END:VEVENT
BEGIN:VEVENT
DTSTART;TZID=UTC:20240322T150000
DTEND;TZID=UTC:20240323T190000
DTSTAMP:20260425T003451
CREATED:20240306T174116Z
LAST-MODIFIED:20240306T174158Z
UID:28411-1711119600-1711220400@www.amerpoultryassn.com
SUMMARY:2024 Utah Fancy Poultry Association Spring Double Show
DESCRIPTION:ABA/APA Double Show
URL:https://www.amerpoultryassn.com/event/2024-utah-fancy-poultry-association-spring-double-show/
LOCATION:Deseret Peak Complex – Grantsville\, UT\, 2930 UT-112\, Grantsville\, UT\, 84029\, United States
ATTACH;FMTTYPE=image/jpeg:https://www.amerpoultryassn.com/wp-content/uploads/2024/03/UFPA.jpeg
ORGANIZER;CN="Utah Fancy Poultry Association":MAILTO:utahfancypoultry@gmail.com
END:VEVENT
BEGIN:VEVENT
DTSTART;VALUE=DATE:20240316
DTEND;VALUE=DATE:20240317
DTSTAMP:20260425T003451
CREATED:20240201T220758Z
LAST-MODIFIED:20240201T220758Z
UID:26585-1710547200-1710633599@www.amerpoultryassn.com
SUMMARY:Cascade Spring Poultry Show
DESCRIPTION:APA/ABA sanctioned 1-day double show\, located at the Evergreen State Fairgrounds in Monroe\, WA\, March 16\, 2024.
URL:https://www.amerpoultryassn.com/event/cascade-spring-poultry-show/
LOCATION:Evergreen State Fairgrounds\, Monroe\, WA\, Monroe\, WA\, United States
CATEGORIES:APA Sanctioned Event,Breed meet
END:VEVENT
BEGIN:VEVENT
DTSTART;VALUE=DATE:20240316
DTEND;VALUE=DATE:20240317
DTSTAMP:20260425T003451
CREATED:20231118T030737Z
LAST-MODIFIED:20231120T003931Z
UID:24846-1710547200-1710633599@www.amerpoultryassn.com
SUMMARY:Virginia Spring Classic
DESCRIPTION:Open double card show. Jr show. APA/ABA sanctioned.
URL:https://www.amerpoultryassn.com/event/virginia-spring-classic/
LOCATION:Virginia State Fair at Meadow Event Park\, 13191 Dawn Blvd\, Doswell\, Virginia
CATEGORIES:APA Sanctioned Event
ATTACH;FMTTYPE=image/jpeg:https://www.amerpoultryassn.com/wp-content/uploads/2023/11/FB_IMG_1700100249803.jpg
ORGANIZER;CN="Berry Fresh Farm":MAILTO:koolkatpoker@yahoo.com
END:VEVENT
BEGIN:VEVENT
DTSTART;VALUE=DATE:20240309
DTEND;VALUE=DATE:20240310
DTSTAMP:20260425T003451
CREATED:20240229T165222Z
LAST-MODIFIED:20240229T165236Z
UID:28169-1709942400-1710028799@www.amerpoultryassn.com
SUMMARY:Carpet City Spring Fling
DESCRIPTION:Double show! Judges: Phil Bartz\, Tim Bowles\, David Atkins\, and Gary Overton!  Come help us make this show a success!
URL:https://www.amerpoultryassn.com/event/carpet-city-spring-fling/
LOCATION:OH
ATTACH;FMTTYPE=image/jpeg:https://www.amerpoultryassn.com/wp-content/uploads/2024/02/IMG_2124.jpeg
END:VEVENT
END:VCALENDAR