BEGIN:VCALENDAR
VERSION:2.0
PRODID:-//The American Poultry Association (APA) - ECPv6.15.20//NONSGML v1.0//EN
CALSCALE:GREGORIAN
METHOD:PUBLISH
X-ORIGINAL-URL:https://www.amerpoultryassn.com
X-WR-CALDESC:Events for The American Poultry Association (APA)
REFRESH-INTERVAL;VALUE=DURATION:PT1H
X-Robots-Tag:noindex
X-PUBLISHED-TTL:PT1H
BEGIN:VTIMEZONE
TZID:UTC
BEGIN:STANDARD
TZOFFSETFROM:+0000
TZOFFSETTO:+0000
TZNAME:UTC
DTSTART:20250101T000000
END:STANDARD
END:VTIMEZONE
BEGIN:VEVENT
DTSTART;VALUE=DATE:20260523
DTEND;VALUE=DATE:20260525
DTSTAMP:20260424T125406
CREATED:20241118T125124Z
LAST-MODIFIED:20260225T212322Z
UID:34804-1779494400-1779667199@www.amerpoultryassn.com
SUMMARY:2026 Semi Annual Meet
DESCRIPTION:Saulk Trail Poultry Club\nLocation: Hillsdale\, MI\nDate: May 23-24th\, 2026\nFor more information: https://saulktrailpoultry.wixsite.com/saulktrailshow
URL:https://www.amerpoultryassn.com/event/saulktrailpoultryclub/
CATEGORIES:APA Annual and Semi Annual,APA Sanctioned Event
ORGANIZER;CN="Saulk Trail Poultry Club":MAILTO:saulktrailpoultry@gmail.com
END:VEVENT
BEGIN:VEVENT
DTSTART;VALUE=DATE:20261107
DTEND;VALUE=DATE:20261108
DTSTAMP:20260424T125406
CREATED:20250625T144728Z
LAST-MODIFIED:20250813T125712Z
UID:37807-1794009600-1794095999@www.amerpoultryassn.com
SUMMARY:2026 APA Canadian National Meet
DESCRIPTION:Gait Equestrian in Moose Jaw – Saskatchewan Poultry Association Show\nDate: November 7\, 2026 \nFor more information: saskpoultassn@gmail.com
URL:https://www.amerpoultryassn.com/event/2026-apa-canadian-national/
CATEGORIES:APA Annual and Semi Annual,APA Sanctioned Event
ORGANIZER;CN="Saskatchewan Poultry Association":MAILTO:saskpoultassn@gmail.com
END:VEVENT
BEGIN:VEVENT
DTSTART;VALUE=DATE:20261113
DTEND;VALUE=DATE:20261116
DTSTAMP:20260424T125406
CREATED:20241226T210307Z
LAST-MODIFIED:20241226T211217Z
UID:35359-1794528000-1794787199@www.amerpoultryassn.com
SUMMARY:2026 Annual Meet
DESCRIPTION:Show dates: November 13-15\, 2026\nLocation: Columbus Ohio\nWebsite: https://www.ohionational.org/\nContact: info@ohionational.org   OR https://www.ohionational.org/join-our-email-list
URL:https://www.amerpoultryassn.com/event/2026-annual-meet/
LOCATION:Ohio Expo Center and State Fair Ground\, 717 East 17th Ave\, Columbus\, OH\, 43211\, United States
CATEGORIES:APA Annual and Semi Annual,APA Sanctioned Event
ORGANIZER;CN="Ohio National Poultry Show":MAILTO:info@ohionational.org
END:VEVENT
BEGIN:VEVENT
DTSTART;VALUE=DATE:20270403
DTEND;VALUE=DATE:20270405
DTSTAMP:20260424T125406
CREATED:20250608T145457Z
LAST-MODIFIED:20250809T190228Z
UID:37727-1806710400-1806883199@www.amerpoultryassn.com
SUMMARY:2027 Semi Annual Meet
DESCRIPTION:Delmarva Poultry Fanciers Club\nLocation: Harrington\, Delaware\nDate: April 3-4\, 2027\nFor more information: http://delmarvapoultryfanciers.com/index.php\nContact: Mike Wasylkowski Email: mwasylkowski@desu.edu
URL:https://www.amerpoultryassn.com/event/2027-semi-annual-meet/
LOCATION:Delaware State Fairgrounds\, 18500 South DuPont Highway\, Harrington\, DE\, United States
CATEGORIES:APA Annual and Semi Annual,APA Sanctioned Event
ORGANIZER;CN="Delmarva Poultry Fanciers Club":MAILTO:mwasylkowski@desu.edu
END:VEVENT
BEGIN:VEVENT
DTSTART;TZID=UTC:20280128T080000
DTEND;TZID=UTC:20280130T170000
DTSTAMP:20260424T125406
CREATED:20251211T101501Z
LAST-MODIFIED:20260124T105821Z
UID:40625-1832659200-1832864400@www.amerpoultryassn.com
SUMMARY:2027 Annual Meet
DESCRIPTION:Pacific Poultry Breeders Association\nLocation: Lodi\, California (Lodi Grape Festival Grounds)\nDate: January 28-30\, 2028\nFor more information: https://pacificpoultrybreedersassn.com/
URL:https://www.amerpoultryassn.com/event/2027-annual-meet/
CATEGORIES:APA Annual and Semi Annual,APA Sanctioned Event
ATTACH;FMTTYPE=image/webp:https://www.amerpoultryassn.com/wp-content/uploads/2025/12/rsw_2048h_2048cg_true.webp
END:VEVENT
END:VCALENDAR