BEGIN:VCALENDAR
VERSION:2.0
PRODID:-//The American Poultry Association (APA) - ECPv6.15.20//NONSGML v1.0//EN
CALSCALE:GREGORIAN
METHOD:PUBLISH
X-ORIGINAL-URL:https://www.amerpoultryassn.com
X-WR-CALDESC:Events for The American Poultry Association (APA)
REFRESH-INTERVAL;VALUE=DURATION:PT1H
X-Robots-Tag:noindex
X-PUBLISHED-TTL:PT1H
BEGIN:VTIMEZONE
TZID:UTC
BEGIN:STANDARD
TZOFFSETFROM:+0000
TZOFFSETTO:+0000
TZNAME:UTC
DTSTART:20240101T000000
END:STANDARD
END:VTIMEZONE
BEGIN:VEVENT
DTSTART;TZID=UTC:20251004T080000
DTEND;TZID=UTC:20251005T170000
DTSTAMP:20260424T232353
CREATED:20250818T125610Z
LAST-MODIFIED:20250818T125610Z
UID:38414-1759564800-1759683600@www.amerpoultryassn.com
SUMMARY:Dayton Fancy Feather Club Fall Show
DESCRIPTION:-+\nDayton Fancy Feather Club Fall Show\nOctober 4th & 5th\, 2025\nAddress: 4745 Waynes Trace Rd Hamilton\, OH 45011\nEmail: daytonfancyfeatherclub@gmail.com \nCome join us at our Double Card Show with great facilities with wide aisles!\nHosting IWBA National\, Ameraucana Alliance National\, Marans USA National\, S*teinbacher National meets\, and many more meets from other breed clubs!
URL:https://www.amerpoultryassn.com/event/dayton-fancy-feather-club-fall-2025/
CATEGORIES:APA Sanctioned Event,Breed meet,Club Event
ORGANIZER;CN="Dayton Fancy Feather Club":MAILTO:amanda.heitzman@hotmail.com
END:VEVENT
BEGIN:VEVENT
DTSTART;VALUE=DATE:20251018
DTEND;VALUE=DATE:20251019
DTSTAMP:20260424T232353
CREATED:20250717T174213Z
LAST-MODIFIED:20250717T174213Z
UID:38250-1760745600-1760831999@www.amerpoultryassn.com
SUMMARY:Clucktoberfest Fall Show
DESCRIPTION:Bird Breeders of Idaho Clucktoberfest\n📅 Date: October 18\, 2025🕘 Time: All Day📍 Location:Canyon County Fair Building111 South 22nd Avenue SouthCaldwell\, Idaho 83642\, United States \n🐔 About the Event:Join us for the Bird Breeders of Idaho Clucktoberfest! This is a double judged\, APA & ABA-sanctioned\, double point show you won’t want to miss. There will be vendors\, delicious food\, fantastic prizes\, and a bustling sales row! \nCost per show bird Entry: $6.00 \n📢 Hosted by: Bird Breeders of Idaho (Club Event) \n🔗 Visit our website for more details
URL:https://www.amerpoultryassn.com/event/clucktoberfest-fall-show/
LOCATION:Canyon County Fair Building\, 111 South 22nd Avenue\, South Caldwell\, Idaho\, 83642\, United States
CATEGORIES:APA Sanctioned Event,Club Event
ATTACH;FMTTYPE=image/jpeg:https://www.amerpoultryassn.com/wp-content/uploads/2025/07/birdbreedersofidahojudge.jpg
END:VEVENT
BEGIN:VEVENT
DTSTART;VALUE=DATE:20251018
DTEND;VALUE=DATE:20251019
DTSTAMP:20260424T232353
CREATED:20251016T182156Z
LAST-MODIFIED:20251016T182156Z
UID:39366-1760745600-1760831999@www.amerpoultryassn.com
SUMMARY:Central Indiana Poultry Show
DESCRIPTION:Central Indiana Poultry Show\n📅 Date: October 18th\, 2025🕘 Time: All Day📍 Location:1300 E 100 S\nLebanon\, IN 46052 \n🐔 About the Event:Join us for Indiana’s largest annual poultry show! \nContact:\nTim Curtis\nEmail: tcurts@mccsc.k12.in.us \n📢 Hosted by: Boone County Poultry Club \n🔗 Visit our website for more details
URL:https://www.amerpoultryassn.com/event/central-indiana-poultry-show/
CATEGORIES:APA Sanctioned Event,Club Event
ATTACH;FMTTYPE=image/jpeg:https://www.amerpoultryassn.com/wp-content/uploads/2025/10/CIPS2025.jpg
END:VEVENT
BEGIN:VEVENT
DTSTART;VALUE=DATE:20251018
DTEND;VALUE=DATE:20251020
DTSTAMP:20260424T232353
CREATED:20231114T180309Z
LAST-MODIFIED:20250806T145330Z
UID:24788-1760745600-1760918399@www.amerpoultryassn.com
SUMMARY:2025 APA Canadian National Meet
DESCRIPTION:Ontario Poultry Breeders Annual Show\nOctober 18th & 19th\, 2025\nWest Niagara Fairgrounds Grassie Ontario
URL:https://www.amerpoultryassn.com/event/2025-apa-canadian-national-meet/
LOCATION:West Niagara Fairgrounds\, 7402 Mud St\, Grassie\, Ontario\, L0R 1M0\, Canada
CATEGORIES:APA Annual and Semi Annual,APA Sanctioned Event
END:VEVENT
END:VCALENDAR