BEGIN:VCALENDAR
VERSION:2.0
PRODID:-//The American Poultry Association (APA) - ECPv6.15.20//NONSGML v1.0//EN
CALSCALE:GREGORIAN
METHOD:PUBLISH
X-WR-CALNAME:The American Poultry Association (APA)
X-ORIGINAL-URL:https://www.amerpoultryassn.com
X-WR-CALDESC:Events for The American Poultry Association (APA)
REFRESH-INTERVAL;VALUE=DURATION:PT1H
X-Robots-Tag:noindex
X-PUBLISHED-TTL:PT1H
BEGIN:VTIMEZONE
TZID:UTC
BEGIN:STANDARD
TZOFFSETFROM:+0000
TZOFFSETTO:+0000
TZNAME:UTC
DTSTART:20210101T000000
END:STANDARD
END:VTIMEZONE
BEGIN:VEVENT
DTSTART;VALUE=DATE:20220924
DTEND;VALUE=DATE:20220926
DTSTAMP:20260425T030500
CREATED:20211027T023251Z
LAST-MODIFIED:20230828T143845Z
UID:10431-1663977600-1664150399@www.amerpoultryassn.com
SUMMARY:Wisconsin International Poultry Show
DESCRIPTION:“One of America’s Prestigious Shows” \nwww.wisconsininternational.com\nContact Kaylyn Schleicher for more information: lundpoultry@yahoo.com
URL:https://www.amerpoultryassn.com/event/wisconsin-international-poultry-show/
LOCATION:Columbia County Fairgrounds\, Portage\, WI\, 393 Wauona Trail\, Portage\, WI\, 53901\, United States
CATEGORIES:APA Sanctioned Event
ATTACH;FMTTYPE=image/jpeg:https://www.amerpoultryassn.com/wp-content/uploads/2021/10/6DDF7611-D85F-49E6-B62D-FEB24AE3D9F7.jpeg
ORGANIZER;CN="Wisconsin International Poultry Club":MAILTO:Lundpoultry@yahoo.com
END:VEVENT
END:VCALENDAR