BEGIN:VCALENDAR
VERSION:2.0
PRODID:-//The American Poultry Association (APA) - ECPv6.15.20//NONSGML v1.0//EN
CALSCALE:GREGORIAN
METHOD:PUBLISH
X-WR-CALNAME:The American Poultry Association (APA)
X-ORIGINAL-URL:https://www.amerpoultryassn.com
X-WR-CALDESC:Events for The American Poultry Association (APA)
REFRESH-INTERVAL;VALUE=DURATION:PT1H
X-Robots-Tag:noindex
X-PUBLISHED-TTL:PT1H
BEGIN:VTIMEZONE
TZID:UTC
BEGIN:STANDARD
TZOFFSETFROM:+0000
TZOFFSETTO:+0000
TZNAME:UTC
DTSTART:20230101T000000
END:STANDARD
END:VTIMEZONE
BEGIN:VEVENT
DTSTART;VALUE=DATE:20240316
DTEND;VALUE=DATE:20240317
DTSTAMP:20260424T220500
CREATED:20231118T030737Z
LAST-MODIFIED:20231120T003931Z
UID:24846-1710547200-1710633599@www.amerpoultryassn.com
SUMMARY:Virginia Spring Classic
DESCRIPTION:Open double card show. Jr show. APA/ABA sanctioned.
URL:https://www.amerpoultryassn.com/event/virginia-spring-classic/
LOCATION:Virginia State Fair at Meadow Event Park\, 13191 Dawn Blvd\, Doswell\, Virginia
CATEGORIES:APA Sanctioned Event
ATTACH;FMTTYPE=image/jpeg:https://www.amerpoultryassn.com/wp-content/uploads/2023/11/FB_IMG_1700100249803.jpg
ORGANIZER;CN="Berry Fresh Farm":MAILTO:koolkatpoker@yahoo.com
END:VEVENT
END:VCALENDAR