BEGIN:VCALENDAR
VERSION:2.0
PRODID:-//The American Poultry Association (APA) - ECPv6.15.20//NONSGML v1.0//EN
CALSCALE:GREGORIAN
METHOD:PUBLISH
X-WR-CALNAME:The American Poultry Association (APA)
X-ORIGINAL-URL:https://www.amerpoultryassn.com
X-WR-CALDESC:Events for The American Poultry Association (APA)
REFRESH-INTERVAL;VALUE=DURATION:PT1H
X-Robots-Tag:noindex
X-PUBLISHED-TTL:PT1H
BEGIN:VTIMEZONE
TZID:UTC
BEGIN:STANDARD
TZOFFSETFROM:+0000
TZOFFSETTO:+0000
TZNAME:UTC
DTSTART:20210101T000000
END:STANDARD
END:VTIMEZONE
BEGIN:VEVENT
DTSTART;TZID=UTC:20221013T120000
DTEND;TZID=UTC:20221015T150000
DTSTAMP:20260425T040437
CREATED:20220115T205457Z
LAST-MODIFIED:20230828T143844Z
UID:11633-1665662400-1665846000@www.amerpoultryassn.com
SUMMARY:Utah Fancy Poultry Association - Fall Double Show
DESCRIPTION:Utah Fancy Poultry Association – Fall Double Show \nOctober 13-15\, 2022 \nGolden Spike Event Center – Exhibit Hall \nOgden\, UT  84404 \nJudges: \nRamona Trombley & Rom Roebuck \nAmerican Silkie Bantam Club Western National \nCochins International Western National \nAmeraucana Alliance Western National
URL:https://www.amerpoultryassn.com/event/utah-fancy-poultry-association-fall-double-show/
ATTACH;FMTTYPE=image/png:https://www.amerpoultryassn.com/wp-content/uploads/2022/01/UFPA-1.png
END:VEVENT
END:VCALENDAR