BEGIN:VCALENDAR
VERSION:2.0
PRODID:-//The American Poultry Association (APA) - ECPv6.15.20//NONSGML v1.0//EN
CALSCALE:GREGORIAN
METHOD:PUBLISH
X-WR-CALNAME:The American Poultry Association (APA)
X-ORIGINAL-URL:https://www.amerpoultryassn.com
X-WR-CALDESC:Events for The American Poultry Association (APA)
REFRESH-INTERVAL;VALUE=DURATION:PT1H
X-Robots-Tag:noindex
X-PUBLISHED-TTL:PT1H
BEGIN:VTIMEZONE
TZID:UTC
BEGIN:STANDARD
TZOFFSETFROM:+0000
TZOFFSETTO:+0000
TZNAME:UTC
DTSTART:20230101T000000
END:STANDARD
END:VTIMEZONE
BEGIN:VEVENT
DTSTART;TZID=UTC:20240518T060000
DTEND;TZID=UTC:20240518T170000
DTSTAMP:20260424T205653
CREATED:20240226T160757Z
LAST-MODIFIED:20240226T160757Z
UID:28070-1716012000-1716051600@www.amerpoultryassn.com
SUMMARY:Tri-State Poultry Association Show
DESCRIPTION:3rd Annual Show ~ 2 Days/2 Shows ~ APA & ABA Sanctioned \nFeaturing APA District #2 Meet – Saturday\, May 18\, 2024 \nJudges: Tom Roebuck and Lewis Cunningham \nShow catalog and more information can be found on our facebook page
URL:https://www.amerpoultryassn.com/event/tri-state-poultry-association-show/
LOCATION:Trumbull County Fairgrounds\, 899 Everett Hull Road\, Cortland\, OH\, 44410\, United States
ATTACH;FMTTYPE=image/jpeg:https://www.amerpoultryassn.com/wp-content/uploads/2024/02/2024-Facebook-Flyer.jpg
ORGANIZER;CN="Tri-State Poultry Association":MAILTO:tristatepoultryshow@gmail.com
END:VEVENT
END:VCALENDAR