BEGIN:VCALENDAR
VERSION:2.0
PRODID:-//The American Poultry Association (APA) - ECPv6.15.20//NONSGML v1.0//EN
CALSCALE:GREGORIAN
METHOD:PUBLISH
X-WR-CALNAME:The American Poultry Association (APA)
X-ORIGINAL-URL:https://www.amerpoultryassn.com
X-WR-CALDESC:Events for The American Poultry Association (APA)
REFRESH-INTERVAL;VALUE=DURATION:PT1H
X-Robots-Tag:noindex
X-PUBLISHED-TTL:PT1H
BEGIN:VTIMEZONE
TZID:UTC
BEGIN:STANDARD
TZOFFSETFROM:+0000
TZOFFSETTO:+0000
TZNAME:UTC
DTSTART:20230101T000000
END:STANDARD
END:VTIMEZONE
BEGIN:VEVENT
DTSTART;VALUE=DATE:20240413
DTEND;VALUE=DATE:20240414
DTSTAMP:20260424T205732
CREATED:20240229T165300Z
LAST-MODIFIED:20240229T165320Z
UID:28141-1712966400-1713052799@www.amerpoultryassn.com
SUMMARY:South Texas Poultry Show -Spring Show
DESCRIPTION:STPC spring show
URL:https://www.amerpoultryassn.com/event/south-texas-poultry-show-spring-show/
CATEGORIES:Club Event
ATTACH;FMTTYPE=image/jpeg:https://www.amerpoultryassn.com/wp-content/uploads/2024/02/South-Texas-Classic-spring-show-2024-Ornate.jpg
END:VEVENT
END:VCALENDAR