BEGIN:VCALENDAR
VERSION:2.0
PRODID:-//The American Poultry Association (APA) - ECPv6.15.20//NONSGML v1.0//EN
CALSCALE:GREGORIAN
METHOD:PUBLISH
X-WR-CALNAME:The American Poultry Association (APA)
X-ORIGINAL-URL:https://www.amerpoultryassn.com
X-WR-CALDESC:Events for The American Poultry Association (APA)
REFRESH-INTERVAL;VALUE=DURATION:PT1H
X-Robots-Tag:noindex
X-PUBLISHED-TTL:PT1H
BEGIN:VTIMEZONE
TZID:UTC
BEGIN:STANDARD
TZOFFSETFROM:+0000
TZOFFSETTO:+0000
TZNAME:UTC
DTSTART:20220101T000000
END:STANDARD
END:VTIMEZONE
BEGIN:VEVENT
DTSTART;VALUE=DATE:20230902
DTEND;VALUE=DATE:20230905
DTSTAMP:20260425T004131
CREATED:20230319T215831Z
LAST-MODIFIED:20230828T143939Z
UID:17558-1693612800-1693871999@www.amerpoultryassn.com
SUMMARY:Saanich Fair
DESCRIPTION:Come exhibit your poultry at the 155th Saanich Fair in Victoria\, B.C.\, Canada; Western Canada’s oldest continuous agricultural fair!
URL:https://www.amerpoultryassn.com/event/saanich-fair/
LOCATION:Saanich Fairgrounds\, 1528 Stellys Cross Road\, Saanichton\, B.C.\, V8M 1S8\, Canada
CATEGORIES:Club Event
ORGANIZER;CN="North and South Saanich Agricultural Society":MAILTO:matthew.a.smith@shaw.ca
END:VEVENT
END:VCALENDAR