BEGIN:VCALENDAR
VERSION:2.0
PRODID:-//The American Poultry Association (APA) - ECPv6.15.20//NONSGML v1.0//EN
CALSCALE:GREGORIAN
METHOD:PUBLISH
X-WR-CALNAME:The American Poultry Association (APA)
X-ORIGINAL-URL:https://www.amerpoultryassn.com
X-WR-CALDESC:Events for The American Poultry Association (APA)
REFRESH-INTERVAL;VALUE=DURATION:PT1H
X-Robots-Tag:noindex
X-PUBLISHED-TTL:PT1H
BEGIN:VTIMEZONE
TZID:UTC
BEGIN:STANDARD
TZOFFSETFROM:+0000
TZOFFSETTO:+0000
TZNAME:UTC
DTSTART:20210101T000000
END:STANDARD
END:VTIMEZONE
BEGIN:VEVENT
DTSTART;VALUE=DATE:20221002
DTEND;VALUE=DATE:20221003
DTSTAMP:20260425T030419
CREATED:20220208T190641Z
LAST-MODIFIED:20230828T143845Z
UID:12138-1664668800-1664755199@www.amerpoultryassn.com
SUMMARY:Rochester Poultry Association 114th Show
DESCRIPTION:Annual Show at Genesee Country Village and Museum\, Mumford\, New York.  Open Show Sunday\, October 2nd.   Holding Youth Only Show Saturday\, October 1st.
URL:https://www.amerpoultryassn.com/event/rochester-poultry-association-114th-show/
CATEGORIES:APA Sanctioned Event
END:VEVENT
END:VCALENDAR