BEGIN:VCALENDAR
VERSION:2.0
PRODID:-//The American Poultry Association (APA) - ECPv6.15.20//NONSGML v1.0//EN
CALSCALE:GREGORIAN
METHOD:PUBLISH
X-WR-CALNAME:The American Poultry Association (APA)
X-ORIGINAL-URL:https://www.amerpoultryassn.com
X-WR-CALDESC:Events for The American Poultry Association (APA)
REFRESH-INTERVAL;VALUE=DURATION:PT1H
X-Robots-Tag:noindex
X-PUBLISHED-TTL:PT1H
BEGIN:VTIMEZONE
TZID:UTC
BEGIN:STANDARD
TZOFFSETFROM:+0000
TZOFFSETTO:+0000
TZNAME:UTC
DTSTART:20230101T000000
END:STANDARD
END:VTIMEZONE
BEGIN:VEVENT
DTSTART;TZID=UTC:20240323T090000
DTEND;TZID=UTC:20240323T170000
DTSTAMP:20260424T205826
CREATED:20240112T023657Z
LAST-MODIFIED:20240112T023657Z
UID:26367-1711184400-1711213200@www.amerpoultryassn.com
SUMMARY:Prairie Hatchers 24th Annual YOUTH Show
DESCRIPTION:The Prairie Hatchers invite you to their 24th Annual \nALL Youth Poultry Show!\nThis show is completely organized and arranged by the youth in our club with the adults just to guide us. \nThe Youth Invitational Poultry Show is the Prairie Hatchers largest fundraising event. In addition to the show there will be a bird auction\, raffle that will be full of incredible stuff from our local businesses and of course loads of fun! \nEveryone is welcome to our annual chick and adult bird auction Starting at 3PM. Birds have been donated by quality breeders in the area. The Prairie Hatchers would like to thank everyone who has donated birds to our auction already.\nAs we get closer to the show\, we will post on our Facebook page what adult birds will be available.  As for chicks we will have to wait and see how our hatch goes. \nEmail us for our show catalog\, Donations or for more information!\nprairiehatchers4hclub@gmail.com
URL:https://www.amerpoultryassn.com/event/prairie-hatchers-24th-annual-youth-show/
LOCATION:Clark County Fair Grounds\, 17402 NE Delfel Rd\, Ridgefield\, WA\, 98642\, United States
CATEGORIES:Club Event
END:VEVENT
END:VCALENDAR