BEGIN:VCALENDAR
VERSION:2.0
PRODID:-//The American Poultry Association (APA) - ECPv6.15.20//NONSGML v1.0//EN
CALSCALE:GREGORIAN
METHOD:PUBLISH
X-WR-CALNAME:The American Poultry Association (APA)
X-ORIGINAL-URL:https://www.amerpoultryassn.com
X-WR-CALDESC:Events for The American Poultry Association (APA)
REFRESH-INTERVAL;VALUE=DURATION:PT1H
X-Robots-Tag:noindex
X-PUBLISHED-TTL:PT1H
BEGIN:VTIMEZONE
TZID:UTC
BEGIN:STANDARD
TZOFFSETFROM:+0000
TZOFFSETTO:+0000
TZNAME:UTC
DTSTART:20230101T000000
END:STANDARD
END:VTIMEZONE
BEGIN:VEVENT
DTSTART;VALUE=DATE:20240119
DTEND;VALUE=DATE:20240121
DTSTAMP:20260424T220627
CREATED:20230921T155949Z
LAST-MODIFIED:20230925T171157Z
UID:23502-1705622400-1705795199@www.amerpoultryassn.com
SUMMARY:Peachstate Poultry Association’s “Just Peachy Classic”
DESCRIPTION:Poultry show and swap hosted at the Georgia National Fair Grounds. Single stacked cages\, spacious isles\, large junior show with lots of kids events. Table top serama show hosted by the Southeastern Serama Club.
URL:https://www.amerpoultryassn.com/event/peachstate-poultry-associations-just-peachy-classic/
LOCATION:Georgia National Fairgrounds\, 401 Golden Isles PKWY\, Perry\, GA\, 31069\, United States
CATEGORIES:APA Sanctioned Event
ATTACH;FMTTYPE=image/jpeg:https://www.amerpoultryassn.com/wp-content/uploads/2023/09/F7666C95-7825-40B8-A4BF-9B3F39D52FB8.jpeg
ORGANIZER;CN="Peachstate Poultry Association":MAILTO:peachstatepoultryassociation@gmail.com
END:VEVENT
END:VCALENDAR