BEGIN:VCALENDAR
VERSION:2.0
PRODID:-//The American Poultry Association (APA) - ECPv6.15.20//NONSGML v1.0//EN
CALSCALE:GREGORIAN
METHOD:PUBLISH
X-WR-CALNAME:The American Poultry Association (APA)
X-ORIGINAL-URL:https://www.amerpoultryassn.com
X-WR-CALDESC:Events for The American Poultry Association (APA)
REFRESH-INTERVAL;VALUE=DURATION:PT1H
X-Robots-Tag:noindex
X-PUBLISHED-TTL:PT1H
BEGIN:VTIMEZONE
TZID:UTC
BEGIN:STANDARD
TZOFFSETFROM:+0000
TZOFFSETTO:+0000
TZNAME:UTC
DTSTART:20210101T000000
END:STANDARD
END:VTIMEZONE
BEGIN:VEVENT
DTSTART;TZID=UTC:20221022T070000
DTEND;TZID=UTC:20221023T110000
DTSTAMP:20260425T030342
CREATED:20220202T164327Z
LAST-MODIFIED:20230828T143913Z
UID:12086-1666422000-1666522800@www.amerpoultryassn.com
SUMMARY:Minnesota State Poultry Assn Show
DESCRIPTION:Fall Poultry Show with entry day on October 21\, 2022.
URL:https://www.amerpoultryassn.com/event/minnesota-state-poultry-assn-show/
END:VEVENT
END:VCALENDAR