BEGIN:VCALENDAR
VERSION:2.0
PRODID:-//The American Poultry Association (APA) - ECPv6.15.20//NONSGML v1.0//EN
CALSCALE:GREGORIAN
METHOD:PUBLISH
X-WR-CALNAME:The American Poultry Association (APA)
X-ORIGINAL-URL:https://www.amerpoultryassn.com
X-WR-CALDESC:Events for The American Poultry Association (APA)
REFRESH-INTERVAL;VALUE=DURATION:PT1H
X-Robots-Tag:noindex
X-PUBLISHED-TTL:PT1H
BEGIN:VTIMEZONE
TZID:UTC
BEGIN:STANDARD
TZOFFSETFROM:+0000
TZOFFSETTO:+0000
TZNAME:UTC
DTSTART:20220101T000000
END:STANDARD
END:VTIMEZONE
BEGIN:VEVENT
DTSTART;TZID=UTC:20231014T080000
DTEND;TZID=UTC:20231015T120000
DTSTAMP:20260424T232601
CREATED:20230828T143549Z
LAST-MODIFIED:20230828T143938Z
UID:22648-1697270400-1697371200@www.amerpoultryassn.com
SUMMARY:Michigan Fowl Fest
DESCRIPTION:Double Show
URL:https://www.amerpoultryassn.com/event/michigan-fowl-fest/
LOCATION:Saginaw County Fairgrounds\, 11350 Peet Rd\, Chesaning\, MI\, 48616\, United States
CATEGORIES:APA Sanctioned Event,Breed meet
ATTACH;FMTTYPE=image/jpeg:https://www.amerpoultryassn.com/wp-content/uploads/2023/08/ad-PP-3x7-Fowl-Fest-2023.jpg
ORGANIZER;CN="Michigan Poultry Fanciers":MAILTO:entries@fowlfest.org
END:VEVENT
END:VCALENDAR