BEGIN:VCALENDAR
VERSION:2.0
PRODID:-//The American Poultry Association (APA) - ECPv6.15.20//NONSGML v1.0//EN
CALSCALE:GREGORIAN
METHOD:PUBLISH
X-WR-CALNAME:The American Poultry Association (APA)
X-ORIGINAL-URL:https://www.amerpoultryassn.com
X-WR-CALDESC:Events for The American Poultry Association (APA)
REFRESH-INTERVAL;VALUE=DURATION:PT1H
X-Robots-Tag:noindex
X-PUBLISHED-TTL:PT1H
BEGIN:VTIMEZONE
TZID:UTC
BEGIN:STANDARD
TZOFFSETFROM:+0000
TZOFFSETTO:+0000
TZNAME:UTC
DTSTART:20230101T000000
END:STANDARD
END:VTIMEZONE
BEGIN:VEVENT
DTSTART;TZID=UTC:20240602T080000
DTEND;TZID=UTC:20240602T150000
DTSTAMP:20260424T195746
CREATED:20240201T220639Z
LAST-MODIFIED:20240201T220639Z
UID:26928-1717315200-1717340400@www.amerpoultryassn.com
SUMMARY:Kingston & District Poultry & Pet Stock Association Show
DESCRIPTION:APA sanctioned poultry show in Ontario\, Canada
URL:https://www.amerpoultryassn.com/event/kingston-district-poultry-pet-stock-association-show/
LOCATION:Odessa\, Ontario Fairgrounds\, 231 Main St.\, Odessa\, Ontario\, Canada
CATEGORIES:APA Sanctioned Event
ORGANIZER;CN="Kingston &amp%3B District Poultry &amp%3B Pet Stock Association":MAILTO:kdppsa@kdppsa.ca
END:VEVENT
END:VCALENDAR