BEGIN:VCALENDAR
VERSION:2.0
PRODID:-//The American Poultry Association (APA) - ECPv6.15.20//NONSGML v1.0//EN
CALSCALE:GREGORIAN
METHOD:PUBLISH
X-WR-CALNAME:The American Poultry Association (APA)
X-ORIGINAL-URL:https://www.amerpoultryassn.com
X-WR-CALDESC:Events for The American Poultry Association (APA)
REFRESH-INTERVAL;VALUE=DURATION:PT1H
X-Robots-Tag:noindex
X-PUBLISHED-TTL:PT1H
BEGIN:VTIMEZONE
TZID:UTC
BEGIN:STANDARD
TZOFFSETFROM:+0000
TZOFFSETTO:+0000
TZNAME:UTC
DTSTART:20230101T000000
END:STANDARD
END:VTIMEZONE
BEGIN:VEVENT
DTSTART;VALUE=DATE:20240106
DTEND;VALUE=DATE:20240108
DTSTAMP:20260424T220459
CREATED:20231203T215918Z
LAST-MODIFIED:20231204T171338Z
UID:25208-1704499200-1704671999@www.amerpoultryassn.com
SUMMARY:Florida Sunshine Classic
DESCRIPTION:FLORIDA POULTRY FANCIERS ASSOCIATON \n2024 Florida Sunshine Classic Double Show \nAPA DISTRICT and CLUB MEET \nABA DISTRICT and SPECIAL MEET
URL:https://www.amerpoultryassn.com/event/florida-sunshine-classic/
CATEGORIES:APA Sanctioned Event,District Meet
END:VEVENT
END:VCALENDAR