BEGIN:VCALENDAR
VERSION:2.0
PRODID:-//The American Poultry Association (APA) - ECPv6.15.20//NONSGML v1.0//EN
CALSCALE:GREGORIAN
METHOD:PUBLISH
X-WR-CALNAME:The American Poultry Association (APA)
X-ORIGINAL-URL:https://www.amerpoultryassn.com
X-WR-CALDESC:Events for The American Poultry Association (APA)
REFRESH-INTERVAL;VALUE=DURATION:PT1H
X-Robots-Tag:noindex
X-PUBLISHED-TTL:PT1H
BEGIN:VTIMEZONE
TZID:UTC
BEGIN:STANDARD
TZOFFSETFROM:+0000
TZOFFSETTO:+0000
TZNAME:UTC
DTSTART:20230101T000000
END:STANDARD
END:VTIMEZONE
BEGIN:VEVENT
DTSTART;VALUE=DATE:20240209
DTEND;VALUE=DATE:20240213
DTSTAMP:20260424T220606
CREATED:20240111T152327Z
LAST-MODIFIED:20240111T152327Z
UID:26180-1707436800-1707782399@www.amerpoultryassn.com
SUMMARY:Expo Sahuayo 2024
DESCRIPTION:Is a poultry show with pigeons and poultry device
URL:https://www.amerpoultryassn.com/event/expo-sahuayo-2024/
LOCATION:mexico\, C. José María Morelos\, Camino Real\, 59034 Sahuayo de Morelos\, Mich.\, Sahuayo\, Michoacan\, 59034\, Mexico
CATEGORIES:Club Event
ATTACH;FMTTYPE=image/jpeg:https://www.amerpoultryassn.com/wp-content/uploads/2024/01/e0a790b1-4b80-4be5-92f5-e24fdeadf48e.jpeg
ORGANIZER;CN="Poultry Club Mexico":MAILTO:Jorgeeng.99@gmail.com
END:VEVENT
END:VCALENDAR