BEGIN:VCALENDAR
VERSION:2.0
PRODID:-//The American Poultry Association (APA) - ECPv6.15.20//NONSGML v1.0//EN
CALSCALE:GREGORIAN
METHOD:PUBLISH
X-WR-CALNAME:The American Poultry Association (APA)
X-ORIGINAL-URL:https://www.amerpoultryassn.com
X-WR-CALDESC:Events for The American Poultry Association (APA)
REFRESH-INTERVAL;VALUE=DURATION:PT1H
X-Robots-Tag:noindex
X-PUBLISHED-TTL:PT1H
BEGIN:VTIMEZONE
TZID:UTC
BEGIN:STANDARD
TZOFFSETFROM:+0000
TZOFFSETTO:+0000
TZNAME:UTC
DTSTART:20230101T000000
END:STANDARD
END:VTIMEZONE
BEGIN:VEVENT
DTSTART;TZID=UTC:20240426T120000
DTEND;TZID=UTC:20240428T110000
DTSTAMP:20260424T205827
CREATED:20240314T222107Z
LAST-MODIFIED:20240314T222107Z
UID:28444-1714132800-1714302000@www.amerpoultryassn.com
SUMMARY:Dayton Fancy Feather Club Spring Show
DESCRIPTION:Double Card Show for both Open and Jr Show.  Approximately $2500 given in awards.  We will have a raffle table 50/50 drawing\, several breed club meets\, vendors area including 10X10 sports and sale cages.  Cages are single stacked in a nice wide open barn.  Located at Darke County Fairgrounds in Greenville\, OH.  Show catalog available on club website and show poultry central.  Contact daytonfancyfeatherclub@gmail.com for more information or to request a show catalog.
URL:https://www.amerpoultryassn.com/event/dayton-fancy-feather-club-spring-show-3/
ATTACH;FMTTYPE=image/png:https://www.amerpoultryassn.com/wp-content/uploads/2024/03/Dayton-Fancy-Feather-T-Shirt-Back.png
ORGANIZER;CN="Dayton Fancy Feather Club":MAILTO:amanda.heitzman@hotmail.com
END:VEVENT
END:VCALENDAR