BEGIN:VCALENDAR
VERSION:2.0
PRODID:-//The American Poultry Association (APA) - ECPv6.15.20//NONSGML v1.0//EN
CALSCALE:GREGORIAN
METHOD:PUBLISH
X-WR-CALNAME:The American Poultry Association (APA)
X-ORIGINAL-URL:https://www.amerpoultryassn.com
X-WR-CALDESC:Events for The American Poultry Association (APA)
REFRESH-INTERVAL;VALUE=DURATION:PT1H
X-Robots-Tag:noindex
X-PUBLISHED-TTL:PT1H
BEGIN:VTIMEZONE
TZID:UTC
BEGIN:STANDARD
TZOFFSETFROM:+0000
TZOFFSETTO:+0000
TZNAME:UTC
DTSTART:20220101T000000
END:STANDARD
END:VTIMEZONE
BEGIN:VEVENT
DTSTART;TZID=UTC:20230429T060000
DTEND;TZID=UTC:20230430T110000
DTSTAMP:20260424T180209
CREATED:20230104T215558Z
LAST-MODIFIED:20230828T143910Z
UID:16822-1682748000-1682852400@www.amerpoultryassn.com
SUMMARY:Dayton Fancy Feather Club Spring Show
DESCRIPTION:Double Card Show
URL:https://www.amerpoultryassn.com/event/dayton-fancy-feather-club-spring-show-2/
LOCATION:Darke County Fairgrounds\, 800 Sweitzer St\, Greenville\, OH\, 45331
ORGANIZER;CN="Dayton Fancy Feather Club":MAILTO:amanda.heitzman@hotmail.com
END:VEVENT
END:VCALENDAR