BEGIN:VCALENDAR
VERSION:2.0
PRODID:-//The American Poultry Association (APA) - ECPv6.15.20//NONSGML v1.0//EN
CALSCALE:GREGORIAN
METHOD:PUBLISH
X-WR-CALNAME:The American Poultry Association (APA)
X-ORIGINAL-URL:https://www.amerpoultryassn.com
X-WR-CALDESC:Events for The American Poultry Association (APA)
REFRESH-INTERVAL;VALUE=DURATION:PT1H
X-Robots-Tag:noindex
X-PUBLISHED-TTL:PT1H
BEGIN:VTIMEZONE
TZID:UTC
BEGIN:STANDARD
TZOFFSETFROM:+0000
TZOFFSETTO:+0000
TZNAME:UTC
DTSTART:20220101T000000
END:STANDARD
END:VTIMEZONE
BEGIN:VEVENT
DTSTART;VALUE=DATE:20230902
DTEND;VALUE=DATE:20230903
DTSTAMP:20260425T004120
CREATED:20230801T181257Z
LAST-MODIFIED:20230828T143939Z
UID:21607-1693612800-1693699199@www.amerpoultryassn.com
SUMMARY:CCFA Poultry Show
DESCRIPTION:Chesterfield County Fair Association invites you to our 1st\nAPA & ABA Sanctioned Poultry show.\nShow Schedule:\nSeptember 1\, 2023:\n• Early Coop-In for Out of State Exhibitors: 5:00 p.m.\nSeptember 2\, 2023:\n• Coop-In: 7:30-9:00 a.m.\n• Judging starts: 10:00 a.m.\n• YEPA Showmanship: 1:00 p.m.\n• Award Presentation: 4:00 p.m.\n• Coop-Out: 5:00 p.m. (NO early coop-out)\n• Poultry Tent Closing: 10:00 p.m.\nSpace is limited and Pre-Registration is required. Show Catalog can be found at
URL:https://www.amerpoultryassn.com/event/ccfa-poultry-show/
CATEGORIES:APA Sanctioned Event,Club Event
END:VEVENT
END:VCALENDAR