BEGIN:VCALENDAR
VERSION:2.0
PRODID:-//The American Poultry Association (APA) - ECPv6.15.20//NONSGML v1.0//EN
CALSCALE:GREGORIAN
METHOD:PUBLISH
X-WR-CALNAME:The American Poultry Association (APA)
X-ORIGINAL-URL:https://www.amerpoultryassn.com
X-WR-CALDESC:Events for The American Poultry Association (APA)
REFRESH-INTERVAL;VALUE=DURATION:PT1H
X-Robots-Tag:noindex
X-PUBLISHED-TTL:PT1H
BEGIN:VTIMEZONE
TZID:UTC
BEGIN:STANDARD
TZOFFSETFROM:+0000
TZOFFSETTO:+0000
TZNAME:UTC
DTSTART:20210101T000000
END:STANDARD
END:VTIMEZONE
BEGIN:VEVENT
DTSTART;TZID=UTC:20220602T080000
DTEND;TZID=UTC:20220602T170000
DTSTAMP:20260425T020029
CREATED:20220729T003840Z
LAST-MODIFIED:20230828T143847Z
UID:13557-1654156800-1654189200@www.amerpoultryassn.com
SUMMARY:bolder city poultry show
DESCRIPTION:this is a series throw out Arizona for poultry the first is in series . $100 per bird
URL:https://www.amerpoultryassn.com/event/bolder-city-poultry-show/
LOCATION:Wilson Oklahoma FFA barn\, 1860 Hewitt rd\, Wilson\, OK\, 73463\, United States
CATEGORIES:District Meet
END:VEVENT
END:VCALENDAR