BEGIN:VCALENDAR
VERSION:2.0
PRODID:-//The American Poultry Association (APA) - ECPv6.15.20//NONSGML v1.0//EN
CALSCALE:GREGORIAN
METHOD:PUBLISH
X-WR-CALNAME:The American Poultry Association (APA)
X-ORIGINAL-URL:https://www.amerpoultryassn.com
X-WR-CALDESC:Events for The American Poultry Association (APA)
REFRESH-INTERVAL;VALUE=DURATION:PT1H
X-Robots-Tag:noindex
X-PUBLISHED-TTL:PT1H
BEGIN:VTIMEZONE
TZID:UTC
BEGIN:STANDARD
TZOFFSETFROM:+0000
TZOFFSETTO:+0000
TZNAME:UTC
DTSTART:20210101T000000
END:STANDARD
END:VTIMEZONE
BEGIN:VEVENT
DTSTART;TZID=UTC:20221130T000000
DTEND;TZID=UTC:20221130T000000
DTSTAMP:20260425T025951
CREATED:20211109T043741Z
LAST-MODIFIED:20230828T143912Z
UID:10641-1669766400-1669766400@www.amerpoultryassn.com
SUMMARY:APA Semi-Annual Meet Chattahoochee Valley Poultry Association
DESCRIPTION:
URL:https://www.amerpoultryassn.com/event/apa-semi-annual-meet-chattahoochee-valley-poultry-association/
CATEGORIES:APA Annual and Semi Annual
END:VEVENT
END:VCALENDAR