BEGIN:VCALENDAR
VERSION:2.0
PRODID:-//The American Poultry Association (APA) - ECPv6.15.20//NONSGML v1.0//EN
CALSCALE:GREGORIAN
METHOD:PUBLISH
X-WR-CALNAME:The American Poultry Association (APA)
X-ORIGINAL-URL:https://www.amerpoultryassn.com
X-WR-CALDESC:Events for The American Poultry Association (APA)
REFRESH-INTERVAL;VALUE=DURATION:PT1H
X-Robots-Tag:noindex
X-PUBLISHED-TTL:PT1H
BEGIN:VTIMEZONE
TZID:UTC
BEGIN:STANDARD
TZOFFSETFROM:+0000
TZOFFSETTO:+0000
TZNAME:UTC
DTSTART:20230101T000000
END:STANDARD
END:VTIMEZONE
BEGIN:VEVENT
DTSTART;TZID=UTC:20240322T150000
DTEND;TZID=UTC:20240323T190000
DTSTAMP:20260424T205828
CREATED:20240306T174116Z
LAST-MODIFIED:20240306T174158Z
UID:28411-1711119600-1711220400@www.amerpoultryassn.com
SUMMARY:2024 Utah Fancy Poultry Association Spring Double Show
DESCRIPTION:ABA/APA Double Show
URL:https://www.amerpoultryassn.com/event/2024-utah-fancy-poultry-association-spring-double-show/
LOCATION:Deseret Peak Complex – Grantsville\, UT\, 2930 UT-112\, Grantsville\, UT\, 84029\, United States
ATTACH;FMTTYPE=image/jpeg:https://www.amerpoultryassn.com/wp-content/uploads/2024/03/UFPA.jpeg
ORGANIZER;CN="Utah Fancy Poultry Association":MAILTO:utahfancypoultry@gmail.com
END:VEVENT
END:VCALENDAR