BEGIN:VCALENDAR
VERSION:2.0
PRODID:-//The American Poultry Association (APA) - ECPv6.15.20//NONSGML v1.0//EN
CALSCALE:GREGORIAN
METHOD:PUBLISH
X-WR-CALNAME:The American Poultry Association (APA)
X-ORIGINAL-URL:https://www.amerpoultryassn.com
X-WR-CALDESC:Events for The American Poultry Association (APA)
REFRESH-INTERVAL;VALUE=DURATION:PT1H
X-Robots-Tag:noindex
X-PUBLISHED-TTL:PT1H
BEGIN:VTIMEZONE
TZID:UTC
BEGIN:STANDARD
TZOFFSETFROM:+0000
TZOFFSETTO:+0000
TZNAME:UTC
DTSTART:20220101T000000
END:STANDARD
END:VTIMEZONE
BEGIN:VEVENT
DTSTART;VALUE=DATE:20231021
DTEND;VALUE=DATE:20231023
DTSTAMP:20260424T232015
CREATED:20221202T154449Z
LAST-MODIFIED:20230828T143937Z
UID:16395-1697846400-1698019199@www.amerpoultryassn.com
SUMMARY:2023 APA 150th Anniversary Canadian National
DESCRIPTION:The Ontario Poultry Breeders will be hosting the 2023 Canadian National. This show is to be held October 21 & 22 \,2023 at the West Niagara Fairgrounds Grassie\, Ontario. Check our website (https://ontariopoultrybreeders.webs.com/) for updates and contact information.
URL:https://www.amerpoultryassn.com/event/2023-apa-150th-anniversary-canadian-national/
CATEGORIES:APA Annual and Semi Annual
ATTACH;FMTTYPE=image/png:https://www.amerpoultryassn.com/wp-content/uploads/2022/12/APA-Canadaannual2-2023.png
END:VEVENT
END:VCALENDAR